BEGIN:VCALENDAR
VERSION:2.0
PRODID:-//achurchnearyou.com//eventfeed//EN
CALSCALE:GREGORIAN
METHOD:PUBLISH
X-WR-TIMEZONE:UTC
BEGIN:VEVENT
SUMMARY:Christmas Eve Midnight Communion
DTSTART:20251224T230000Z
DTEND:20251224T235900Z
DTSTAMP:20260421T053956Z
UID:8922562025-12-24 23:00:00+00:00achurchnearyou
CATEGORIES:
DESCRIPTION:A candle lit service of communion to begin Christmas.\nEveryon
 e welcome.
GEO:-1.505478;53.688378
LOCATION:St John’s Church\, Wakefield
URL:https://www.achurchnearyou.com/church/7365/service-and-events/events/8
 92256/
END:VEVENT
END:VCALENDAR
