BEGIN:VCALENDAR
VERSION:2.0
PRODID:-//achurchnearyou.com//eventfeed//EN
CALSCALE:GREGORIAN
METHOD:PUBLISH
X-WR-TIMEZONE:UTC
BEGIN:VEVENT
SUMMARY:Easter Vigil
DTSTART:20260404T200000Z
DTEND:20260404T213000Z
DTSTAMP:20260423T205700Z
UID:11849282026-04-04 20:00:00+00:00achurchnearyou
CATEGORIES:
DESCRIPTION:We await the resurrection of our Lord with this vigil on Easte
 r Eve.
GEO:5.139206;52.090024
LOCATION:Holy Trinity Church Utrecht
URL:https://www.achurchnearyou.com/church/7366/service-and-events/events/1
 184928/
END:VEVENT
END:VCALENDAR
