BEGIN:VCALENDAR
VERSION:2.0
PRODID:-//achurchnearyou.com//eventfeed//EN
CALSCALE:GREGORIAN
METHOD:PUBLISH
X-WR-TIMEZONE:UTC
BEGIN:VEVENT
SUMMARY:All Age Worship (English)
DTSTART;TZID=Europe/London:20260503T110000
DTEND;TZID=Europe/London:20260503T123000
DTSTAMP:20260423T164313Z
UID:217882026-05-03 11:00:00+01:00achurchnearyou
CATEGORIES:
DESCRIPTION:Holy Communion (English) with Talk and our Worship Band leadin
 g us in music.
GEO:5.139206;52.090024
LOCATION:Holy Trinity Church Utrecht
URL:https://www.holytrinityutrecht.nl/
END:VEVENT
BEGIN:VEVENT
SUMMARY:All Age Worship (English)
DTSTART;TZID=Europe/London:20260607T110000
DTEND;TZID=Europe/London:20260607T123000
DTSTAMP:20260423T164313Z
UID:217882026-06-07 11:00:00+01:00achurchnearyou
CATEGORIES:
DESCRIPTION:Holy Communion (English) with Talk and our Worship Band leadin
 g us in music.
GEO:5.139206;52.090024
LOCATION:Holy Trinity Church Utrecht
URL:https://www.holytrinityutrecht.nl/
END:VEVENT
BEGIN:VEVENT
SUMMARY:All Age Worship (English)
DTSTART;TZID=Europe/London:20260906T110000
DTEND;TZID=Europe/London:20260906T123000
DTSTAMP:20260423T164313Z
UID:217882026-09-06 11:00:00+01:00achurchnearyou
CATEGORIES:
DESCRIPTION:Holy Communion (English) with Talk and our Worship Band leadin
 g us in music.
GEO:5.139206;52.090024
LOCATION:Holy Trinity Church Utrecht
URL:https://www.holytrinityutrecht.nl/
END:VEVENT
BEGIN:VEVENT
SUMMARY:All Age Worship (English)
DTSTART;TZID=Europe/London:20261004T110000
DTEND;TZID=Europe/London:20261004T123000
DTSTAMP:20260423T164313Z
UID:217882026-10-04 11:00:00+01:00achurchnearyou
CATEGORIES:
DESCRIPTION:Holy Communion (English) with Talk and our Worship Band leadin
 g us in music.
GEO:5.139206;52.090024
LOCATION:Holy Trinity Church Utrecht
URL:https://www.holytrinityutrecht.nl/
END:VEVENT
BEGIN:VEVENT
SUMMARY:All Age Worship (English)
DTSTART;TZID=Europe/London:20261101T110000
DTEND;TZID=Europe/London:20261101T123000
DTSTAMP:20260423T164313Z
UID:217882026-11-01 11:00:00+00:00achurchnearyou
CATEGORIES:
DESCRIPTION:Holy Communion (English) with Talk and our Worship Band leadin
 g us in music.
GEO:5.139206;52.090024
LOCATION:Holy Trinity Church Utrecht
URL:https://www.holytrinityutrecht.nl/
END:VEVENT
BEGIN:VEVENT
SUMMARY:All Age Worship (English)
DTSTART;TZID=Europe/London:20261206T110000
DTEND;TZID=Europe/London:20261206T123000
DTSTAMP:20260423T164313Z
UID:217882026-12-06 11:00:00+00:00achurchnearyou
CATEGORIES:
DESCRIPTION:Holy Communion (English) with Talk and our Worship Band leadin
 g us in music.
GEO:5.139206;52.090024
LOCATION:Holy Trinity Church Utrecht
URL:https://www.holytrinityutrecht.nl/
END:VEVENT
BEGIN:VEVENT
SUMMARY:All Age Worship (English)
DTSTART;TZID=Europe/London:20270103T110000
DTEND;TZID=Europe/London:20270103T123000
DTSTAMP:20260423T164313Z
UID:217882027-01-03 11:00:00+00:00achurchnearyou
CATEGORIES:
DESCRIPTION:Holy Communion (English) with Talk and our Worship Band leadin
 g us in music.
GEO:5.139206;52.090024
LOCATION:Holy Trinity Church Utrecht
URL:https://www.holytrinityutrecht.nl/
END:VEVENT
BEGIN:VEVENT
SUMMARY:All Age Worship (English)
DTSTART;TZID=Europe/London:20270207T110000
DTEND;TZID=Europe/London:20270207T123000
DTSTAMP:20260423T164313Z
UID:217882027-02-07 11:00:00+00:00achurchnearyou
CATEGORIES:
DESCRIPTION:Holy Communion (English) with Talk and our Worship Band leadin
 g us in music.
GEO:5.139206;52.090024
LOCATION:Holy Trinity Church Utrecht
URL:https://www.holytrinityutrecht.nl/
END:VEVENT
BEGIN:VEVENT
SUMMARY:All Age Worship (English)
DTSTART;TZID=Europe/London:20270307T110000
DTEND;TZID=Europe/London:20270307T123000
DTSTAMP:20260423T164313Z
UID:217882027-03-07 11:00:00+00:00achurchnearyou
CATEGORIES:
DESCRIPTION:Holy Communion (English) with Talk and our Worship Band leadin
 g us in music.
GEO:5.139206;52.090024
LOCATION:Holy Trinity Church Utrecht
URL:https://www.holytrinityutrecht.nl/
END:VEVENT
BEGIN:VEVENT
SUMMARY:All Age Worship (English)
DTSTART;TZID=Europe/London:20270404T110000
DTEND;TZID=Europe/London:20270404T123000
DTSTAMP:20260423T164313Z
UID:217882027-04-04 11:00:00+01:00achurchnearyou
CATEGORIES:
DESCRIPTION:Holy Communion (English) with Talk and our Worship Band leadin
 g us in music.
GEO:5.139206;52.090024
LOCATION:Holy Trinity Church Utrecht
URL:https://www.holytrinityutrecht.nl/
END:VEVENT
END:VCALENDAR
