BEGIN:VCALENDAR
VERSION:2.0
PRODID:-//achurchnearyou.com//eventfeed//EN
CALSCALE:GREGORIAN
METHOD:PUBLISH
X-WR-TIMEZONE:UTC
BEGIN:VEVENT
SUMMARY:Maundy Thursday
DTSTART;TZID=Europe/London:20260402T200000
DTEND;TZID=Europe/London:20260402T213000
DTSTAMP:20260423T192715Z
UID:11831091775156400.0achurchnearyou
CATEGORIES:
DESCRIPTION:A service of Choral Holy Communion\, including the washing of 
 feet as our Lord did on the last night before his passion.  It concludes w
 ith the stripping of the altar and we leave in silence recalling our Lord
 ’s arrest and the scattering of the disciples.
GEO:5.139206;52.090024
LOCATION:Holy Trinity Church Utrecht
URL:https://www.achurchnearyou.com/church/7366/service-and-events/events/1
 183109/
END:VEVENT
BEGIN:VEVENT
SUMMARY:Good Friday Morning Prayer (Dutch)
DTSTART;TZID=Europe/London:20260403T100000
DTEND;TZID=Europe/London:20260403T110000
DTSTAMP:20260423T192715Z
UID:11849231775206800.0achurchnearyou
CATEGORIES:
DESCRIPTION:Morning Prayer in Dutch\, according to the Book of Common Pray
 er for Good Friday
GEO:5.139206;52.090024
LOCATION:Holy Trinity Church Utrecht
URL:https://www.achurchnearyou.com/church/7366/service-and-events/events/1
 184923/
END:VEVENT
BEGIN:VEVENT
SUMMARY:The Way of the Cross
DTSTART;TZID=Europe/London:20260403T200000
DTEND;TZID=Europe/London:20260403T213000
DTSTAMP:20260423T192715Z
UID:11849251775242800.0achurchnearyou
CATEGORIES:
DESCRIPTION:Our evening service on Good Friday.
GEO:5.139206;52.090024
LOCATION:Holy Trinity Church Utrecht
URL:https://www.achurchnearyou.com/church/7366/service-and-events/events/1
 184925/
END:VEVENT
BEGIN:VEVENT
SUMMARY:Easter Vigil
DTSTART;TZID=Europe/London:20260404T210000
DTEND;TZID=Europe/London:20260404T223000
DTSTAMP:20260423T192715Z
UID:11849281775332800.0achurchnearyou
CATEGORIES:
DESCRIPTION:We await the resurrection of our Lord with this vigil on Easte
 r Eve.
GEO:5.139206;52.090024
LOCATION:Holy Trinity Church Utrecht
URL:https://www.achurchnearyou.com/church/7366/service-and-events/events/1
 184928/
END:VEVENT
BEGIN:VEVENT
SUMMARY:Sung Holy Communion (Dutch)
DTSTART;TZID=Europe/London:20260405T090000
DTEND;TZID=Europe/London:20260405T100000
DTSTAMP:20260423T192715Z
UID:11526721775376000.0achurchnearyou
CATEGORIES:
DESCRIPTION:Join us for a service of Holy Communion in Dutch according to 
 Common Worship\, in traditional language. With organ accompaniment.
LOCATION:Holy Trinity Church Utrecht
URL:https://www.achurchnearyou.com/church/7366/service-and-events/events/1
 152672/
END:VEVENT
BEGIN:VEVENT
SUMMARY:All Age Holy Communion
DTSTART;TZID=Europe/London:20260405T091500
DTEND;TZID=Europe/London:20260405T101500
DTSTAMP:20260423T192715Z
UID:11849291775376900.0achurchnearyou
CATEGORIES:
DESCRIPTION:Our first service for Easter Day is an All Age 'light' service
  with piano music supporting our worship.
GEO:5.139206;52.090024
LOCATION:Holy Trinity Church Utrecht
URL:https://www.achurchnearyou.com/church/7366/service-and-events/events/1
 184929/
END:VEVENT
BEGIN:VEVENT
SUMMARY:Choral Holy Communion
DTSTART;TZID=Europe/London:20260405T110000
DTEND;TZID=Europe/London:20260405T123000
DTSTAMP:20260423T192715Z
UID:11849311775383200.0achurchnearyou
CATEGORIES:
DESCRIPTION:Our second service on this happy day is one of Choral Holy Com
 munion with choir and organ support.
GEO:5.139206;52.090024
LOCATION:Holy Trinity Church Utrecht
URL:https://www.achurchnearyou.com/church/7366/service-and-events/events/1
 184931/
END:VEVENT
BEGIN:VEVENT
SUMMARY:All Age Worship (English)
DTSTART;TZID=Europe/London:20260405T110000
DTEND;TZID=Europe/London:20260405T123000
DTSTAMP:20260423T192715Z
UID:217881775383200.0achurchnearyou
CATEGORIES:
DESCRIPTION:Holy Communion (English) with Talk and our Worship Band leadin
 g us in music.
GEO:5.139206;52.090024
LOCATION:Holy Trinity Church Utrecht
URL:https://www.holytrinityutrecht.nl/
END:VEVENT
BEGIN:VEVENT
SUMMARY:Sung Holy Communion  (Dutch)
DTSTART;TZID=Europe/London:20260406T100000
DTEND;TZID=Europe/London:20260406T111500
DTSTAMP:20260423T192715Z
UID:12994521775466000.0achurchnearyou
CATEGORIES:
DESCRIPTION:Holy Communion in Dutch with Easter Day readings on Easter Mon
 day.
LOCATION:Holy Trinity Church Utrecht
URL:https://www.achurchnearyou.com/church/7366/service-and-events/events/1
 299452/
END:VEVENT
BEGIN:VEVENT
SUMMARY:Sung Holy Communion
DTSTART;TZID=Europe/London:20260412T091500
DTEND;TZID=Europe/London:20260412T101500
DTSTAMP:20260423T192715Z
UID:11528601775981700.0achurchnearyou
CATEGORIES:
DESCRIPTION:Join us for a service of Holy Communion with hymns and piano a
 ccompaniment.
LOCATION:Holy Trinity Church Utrecht
URL:https://www.achurchnearyou.com/church/7366/service-and-events/events/1
 152860/
END:VEVENT
BEGIN:VEVENT
SUMMARY:Choral Communion (English)
DTSTART;TZID=Europe/London:20260412T110000
DTEND;TZID=Europe/London:20260412T123000
DTSTAMP:20260423T192715Z
UID:217281775988000.0achurchnearyou
CATEGORIES:
DESCRIPTION:Common Worship Order 1\, contemporary English language\, with 
 hymns\, choir and sermon. The service is Live-streamed.
GEO:5.139206;52.090024
LOCATION:Holy Trinity Church Utrecht
URL:https://www.holytrinityutrecht.nl/
END:VEVENT
BEGIN:VEVENT
SUMMARY:Choral Evensong
DTSTART;TZID=Europe/London:20260412T170000
DTEND;TZID=Europe/London:20260412T180000
DTSTAMP:20260423T192715Z
UID:8460781776009600.0achurchnearyou
CATEGORIES:
DESCRIPTION:Traditional Evening Prayer led by the Choir.\nNB No Choral Eve
 nsong in April 2026
GEO:5.139206;52.090024
LOCATION:Holy Trinity Church Utrecht
URL:https://www.achurchnearyou.com/church/7366/service-and-events/events/8
 46078/
END:VEVENT
BEGIN:VEVENT
SUMMARY:Sung Holy Communion
DTSTART;TZID=Europe/London:20260419T091500
DTEND;TZID=Europe/London:20260419T101500
DTSTAMP:20260423T192715Z
UID:11528601776586500.0achurchnearyou
CATEGORIES:
DESCRIPTION:Join us for a service of Holy Communion with hymns and piano a
 ccompaniment.
LOCATION:Holy Trinity Church Utrecht
URL:https://www.achurchnearyou.com/church/7366/service-and-events/events/1
 152860/
END:VEVENT
BEGIN:VEVENT
SUMMARY:Choral Communion (English)
DTSTART;TZID=Europe/London:20260419T110000
DTEND;TZID=Europe/London:20260419T123000
DTSTAMP:20260423T192715Z
UID:217281776592800.0achurchnearyou
CATEGORIES:
DESCRIPTION:Common Worship Order 1\, contemporary English language\, with 
 hymns\, choir and sermon. The service is Live-streamed.
GEO:5.139206;52.090024
LOCATION:Holy Trinity Church Utrecht
URL:https://www.holytrinityutrecht.nl/
END:VEVENT
BEGIN:VEVENT
SUMMARY:Sung Holy Communion
DTSTART;TZID=Europe/London:20260426T091500
DTEND;TZID=Europe/London:20260426T101500
DTSTAMP:20260423T192715Z
UID:11528601777191300.0achurchnearyou
CATEGORIES:
DESCRIPTION:Join us for a service of Holy Communion with hymns and piano a
 ccompaniment.
LOCATION:Holy Trinity Church Utrecht
URL:https://www.achurchnearyou.com/church/7366/service-and-events/events/1
 152860/
END:VEVENT
BEGIN:VEVENT
SUMMARY:Choral Communion (English)
DTSTART;TZID=Europe/London:20260426T110000
DTEND;TZID=Europe/London:20260426T123000
DTSTAMP:20260423T192715Z
UID:217281777197600.0achurchnearyou
CATEGORIES:
DESCRIPTION:Common Worship Order 1\, contemporary English language\, with 
 hymns\, choir and sermon. The service is Live-streamed.
GEO:5.139206;52.090024
LOCATION:Holy Trinity Church Utrecht
URL:https://www.holytrinityutrecht.nl/
END:VEVENT
BEGIN:VEVENT
SUMMARY:Sung Holy Communion (Dutch)
DTSTART;TZID=Europe/London:20260503T090000
DTEND;TZID=Europe/London:20260503T100000
DTSTAMP:20260423T192715Z
UID:11526721777795200.0achurchnearyou
CATEGORIES:
DESCRIPTION:Join us for a service of Holy Communion in Dutch according to 
 Common Worship\, in traditional language. With organ accompaniment.
LOCATION:Holy Trinity Church Utrecht
URL:https://www.achurchnearyou.com/church/7366/service-and-events/events/1
 152672/
END:VEVENT
BEGIN:VEVENT
SUMMARY:All Age Worship (English)
DTSTART;TZID=Europe/London:20260503T110000
DTEND;TZID=Europe/London:20260503T123000
DTSTAMP:20260423T192715Z
UID:217881777802400.0achurchnearyou
CATEGORIES:
DESCRIPTION:Holy Communion (English) with Talk and our Worship Band leadin
 g us in music.
GEO:5.139206;52.090024
LOCATION:Holy Trinity Church Utrecht
URL:https://www.holytrinityutrecht.nl/
END:VEVENT
BEGIN:VEVENT
SUMMARY:Sung Holy Communion
DTSTART;TZID=Europe/London:20260510T091500
DTEND;TZID=Europe/London:20260510T101500
DTSTAMP:20260423T192715Z
UID:11528601778400900.0achurchnearyou
CATEGORIES:
DESCRIPTION:Join us for a service of Holy Communion with hymns and piano a
 ccompaniment.
LOCATION:Holy Trinity Church Utrecht
URL:https://www.achurchnearyou.com/church/7366/service-and-events/events/1
 152860/
END:VEVENT
BEGIN:VEVENT
SUMMARY:Choral Communion (English)
DTSTART;TZID=Europe/London:20260510T110000
DTEND;TZID=Europe/London:20260510T123000
DTSTAMP:20260423T192715Z
UID:217281778407200.0achurchnearyou
CATEGORIES:
DESCRIPTION:Common Worship Order 1\, contemporary English language\, with 
 hymns\, choir and sermon. The service is Live-streamed.
GEO:5.139206;52.090024
LOCATION:Holy Trinity Church Utrecht
URL:https://www.holytrinityutrecht.nl/
END:VEVENT
BEGIN:VEVENT
SUMMARY:Choral Evensong
DTSTART;TZID=Europe/London:20260510T170000
DTEND;TZID=Europe/London:20260510T180000
DTSTAMP:20260423T192715Z
UID:8460781778428800.0achurchnearyou
CATEGORIES:
DESCRIPTION:Traditional Evening Prayer led by the Choir.\nNB No Choral Eve
 nsong in April 2026
GEO:5.139206;52.090024
LOCATION:Holy Trinity Church Utrecht
URL:https://www.achurchnearyou.com/church/7366/service-and-events/events/8
 46078/
END:VEVENT
BEGIN:VEVENT
SUMMARY:Sung Holy Communion
DTSTART;TZID=Europe/London:20260517T091500
DTEND;TZID=Europe/London:20260517T101500
DTSTAMP:20260423T192715Z
UID:11528601779005700.0achurchnearyou
CATEGORIES:
DESCRIPTION:Join us for a service of Holy Communion with hymns and piano a
 ccompaniment.
LOCATION:Holy Trinity Church Utrecht
URL:https://www.achurchnearyou.com/church/7366/service-and-events/events/1
 152860/
END:VEVENT
BEGIN:VEVENT
SUMMARY:Choral Communion (English)
DTSTART;TZID=Europe/London:20260517T110000
DTEND;TZID=Europe/London:20260517T123000
DTSTAMP:20260423T192715Z
UID:217281779012000.0achurchnearyou
CATEGORIES:
DESCRIPTION:Common Worship Order 1\, contemporary English language\, with 
 hymns\, choir and sermon. The service is Live-streamed.
GEO:5.139206;52.090024
LOCATION:Holy Trinity Church Utrecht
URL:https://www.holytrinityutrecht.nl/
END:VEVENT
BEGIN:VEVENT
SUMMARY:Sung Holy Communion
DTSTART;TZID=Europe/London:20260524T091500
DTEND;TZID=Europe/London:20260524T101500
DTSTAMP:20260423T192715Z
UID:11528601779610500.0achurchnearyou
CATEGORIES:
DESCRIPTION:Join us for a service of Holy Communion with hymns and piano a
 ccompaniment.
LOCATION:Holy Trinity Church Utrecht
URL:https://www.achurchnearyou.com/church/7366/service-and-events/events/1
 152860/
END:VEVENT
BEGIN:VEVENT
SUMMARY:Choral Communion (English)
DTSTART;TZID=Europe/London:20260524T110000
DTEND;TZID=Europe/London:20260524T123000
DTSTAMP:20260423T192715Z
UID:217281779616800.0achurchnearyou
CATEGORIES:
DESCRIPTION:Common Worship Order 1\, contemporary English language\, with 
 hymns\, choir and sermon. The service is Live-streamed.
GEO:5.139206;52.090024
LOCATION:Holy Trinity Church Utrecht
URL:https://www.holytrinityutrecht.nl/
END:VEVENT
BEGIN:VEVENT
SUMMARY:Sung Solemn Eucharist (English)
DTSTART;TZID=Europe/London:20260531T091500
DTEND;TZID=Europe/London:20260531T101500
DTSTAMP:20260423T192715Z
UID:2195201780215300.0achurchnearyou
CATEGORIES:
DESCRIPTION:Service in traditional English language with piano accompanime
 nt for the hymns.
GEO:5.139206;52.090024
LOCATION:Holy Trinity Church Utrecht
URL:https://www.holytrinityutrecht.nl/
END:VEVENT
BEGIN:VEVENT
SUMMARY:Choral Solemn Eucharist (English)
DTSTART;TZID=Europe/London:20260531T110000
DTEND;TZID=Europe/London:20260531T123000
DTSTAMP:20260423T192715Z
UID:11528621780221600.0achurchnearyou
CATEGORIES:
DESCRIPTION:Service in traditional English language.
LOCATION:Holy Trinity Church Utrecht
URL:https://www.holytrinityutrecht.nl/
END:VEVENT
BEGIN:VEVENT
SUMMARY:Sung Holy Communion (Dutch)
DTSTART;TZID=Europe/London:20260607T090000
DTEND;TZID=Europe/London:20260607T100000
DTSTAMP:20260423T192715Z
UID:11526721780819200.0achurchnearyou
CATEGORIES:
DESCRIPTION:Join us for a service of Holy Communion in Dutch according to 
 Common Worship\, in traditional language. With organ accompaniment.
LOCATION:Holy Trinity Church Utrecht
URL:https://www.achurchnearyou.com/church/7366/service-and-events/events/1
 152672/
END:VEVENT
BEGIN:VEVENT
SUMMARY:All Age Worship (English)
DTSTART;TZID=Europe/London:20260607T110000
DTEND;TZID=Europe/London:20260607T123000
DTSTAMP:20260423T192715Z
UID:217881780826400.0achurchnearyou
CATEGORIES:
DESCRIPTION:Holy Communion (English) with Talk and our Worship Band leadin
 g us in music.
GEO:5.139206;52.090024
LOCATION:Holy Trinity Church Utrecht
URL:https://www.holytrinityutrecht.nl/
END:VEVENT
BEGIN:VEVENT
SUMMARY:Sung Holy Communion
DTSTART;TZID=Europe/London:20260614T091500
DTEND;TZID=Europe/London:20260614T101500
DTSTAMP:20260423T192715Z
UID:11528601781424900.0achurchnearyou
CATEGORIES:
DESCRIPTION:Join us for a service of Holy Communion with hymns and piano a
 ccompaniment.
LOCATION:Holy Trinity Church Utrecht
URL:https://www.achurchnearyou.com/church/7366/service-and-events/events/1
 152860/
END:VEVENT
BEGIN:VEVENT
SUMMARY:Choral Communion (English)
DTSTART;TZID=Europe/London:20260614T110000
DTEND;TZID=Europe/London:20260614T123000
DTSTAMP:20260423T192715Z
UID:217281781431200.0achurchnearyou
CATEGORIES:
DESCRIPTION:Common Worship Order 1\, contemporary English language\, with 
 hymns\, choir and sermon. The service is Live-streamed.
GEO:5.139206;52.090024
LOCATION:Holy Trinity Church Utrecht
URL:https://www.holytrinityutrecht.nl/
END:VEVENT
BEGIN:VEVENT
SUMMARY:Choral Evensong
DTSTART;TZID=Europe/London:20260614T170000
DTEND;TZID=Europe/London:20260614T180000
DTSTAMP:20260423T192715Z
UID:8460781781452800.0achurchnearyou
CATEGORIES:
DESCRIPTION:Traditional Evening Prayer led by the Choir.\nNB No Choral Eve
 nsong in April 2026
GEO:5.139206;52.090024
LOCATION:Holy Trinity Church Utrecht
URL:https://www.achurchnearyou.com/church/7366/service-and-events/events/8
 46078/
END:VEVENT
BEGIN:VEVENT
SUMMARY:Sung Holy Communion
DTSTART;TZID=Europe/London:20260621T091500
DTEND;TZID=Europe/London:20260621T101500
DTSTAMP:20260423T192715Z
UID:11528601782029700.0achurchnearyou
CATEGORIES:
DESCRIPTION:Join us for a service of Holy Communion with hymns and piano a
 ccompaniment.
LOCATION:Holy Trinity Church Utrecht
URL:https://www.achurchnearyou.com/church/7366/service-and-events/events/1
 152860/
END:VEVENT
BEGIN:VEVENT
SUMMARY:Choral Communion (English)
DTSTART;TZID=Europe/London:20260621T110000
DTEND;TZID=Europe/London:20260621T123000
DTSTAMP:20260423T192715Z
UID:217281782036000.0achurchnearyou
CATEGORIES:
DESCRIPTION:Common Worship Order 1\, contemporary English language\, with 
 hymns\, choir and sermon. The service is Live-streamed.
GEO:5.139206;52.090024
LOCATION:Holy Trinity Church Utrecht
URL:https://www.holytrinityutrecht.nl/
END:VEVENT
BEGIN:VEVENT
SUMMARY:Sung Holy Communion
DTSTART;TZID=Europe/London:20260628T091500
DTEND;TZID=Europe/London:20260628T101500
DTSTAMP:20260423T192715Z
UID:11528601782634500.0achurchnearyou
CATEGORIES:
DESCRIPTION:Join us for a service of Holy Communion with hymns and piano a
 ccompaniment.
LOCATION:Holy Trinity Church Utrecht
URL:https://www.achurchnearyou.com/church/7366/service-and-events/events/1
 152860/
END:VEVENT
BEGIN:VEVENT
SUMMARY:Choral Communion (English)
DTSTART;TZID=Europe/London:20260628T110000
DTEND;TZID=Europe/London:20260628T123000
DTSTAMP:20260423T192715Z
UID:217281782640800.0achurchnearyou
CATEGORIES:
DESCRIPTION:Common Worship Order 1\, contemporary English language\, with 
 hymns\, choir and sermon. The service is Live-streamed.
GEO:5.139206;52.090024
LOCATION:Holy Trinity Church Utrecht
URL:https://www.holytrinityutrecht.nl/
END:VEVENT
BEGIN:VEVENT
SUMMARY:Sung Holy Communion (Dutch)
DTSTART;TZID=Europe/London:20260705T090000
DTEND;TZID=Europe/London:20260705T100000
DTSTAMP:20260423T192715Z
UID:11526721783238400.0achurchnearyou
CATEGORIES:
DESCRIPTION:Join us for a service of Holy Communion in Dutch according to 
 Common Worship\, in traditional language. With organ accompaniment.
LOCATION:Holy Trinity Church Utrecht
URL:https://www.achurchnearyou.com/church/7366/service-and-events/events/1
 152672/
END:VEVENT
BEGIN:VEVENT
SUMMARY:Choral Communion (English)
DTSTART;TZID=Europe/London:20260712T110000
DTEND;TZID=Europe/London:20260712T123000
DTSTAMP:20260423T192715Z
UID:217281783850400.0achurchnearyou
CATEGORIES:
DESCRIPTION:Common Worship Order 1\, contemporary English language\, with 
 hymns\, choir and sermon. The service is Live-streamed.
GEO:5.139206;52.090024
LOCATION:Holy Trinity Church Utrecht
URL:https://www.holytrinityutrecht.nl/
END:VEVENT
BEGIN:VEVENT
SUMMARY:Choral Communion (English)
DTSTART;TZID=Europe/London:20260719T110000
DTEND;TZID=Europe/London:20260719T123000
DTSTAMP:20260423T192715Z
UID:217281784455200.0achurchnearyou
CATEGORIES:
DESCRIPTION:Common Worship Order 1\, contemporary English language\, with 
 hymns\, choir and sermon. The service is Live-streamed.
GEO:5.139206;52.090024
LOCATION:Holy Trinity Church Utrecht
URL:https://www.holytrinityutrecht.nl/
END:VEVENT
BEGIN:VEVENT
SUMMARY:Choral Communion (English)
DTSTART;TZID=Europe/London:20260726T110000
DTEND;TZID=Europe/London:20260726T123000
DTSTAMP:20260423T192715Z
UID:217281785060000.0achurchnearyou
CATEGORIES:
DESCRIPTION:Common Worship Order 1\, contemporary English language\, with 
 hymns\, choir and sermon. The service is Live-streamed.
GEO:5.139206;52.090024
LOCATION:Holy Trinity Church Utrecht
URL:https://www.holytrinityutrecht.nl/
END:VEVENT
BEGIN:VEVENT
SUMMARY:Sung Holy Communion (Dutch)
DTSTART;TZID=Europe/London:20260802T090000
DTEND;TZID=Europe/London:20260802T100000
DTSTAMP:20260423T192715Z
UID:11526721785657600.0achurchnearyou
CATEGORIES:
DESCRIPTION:Join us for a service of Holy Communion in Dutch according to 
 Common Worship\, in traditional language. With organ accompaniment.
LOCATION:Holy Trinity Church Utrecht
URL:https://www.achurchnearyou.com/church/7366/service-and-events/events/1
 152672/
END:VEVENT
BEGIN:VEVENT
SUMMARY:Choral Communion (English)
DTSTART;TZID=Europe/London:20260809T110000
DTEND;TZID=Europe/London:20260809T123000
DTSTAMP:20260423T192715Z
UID:217281786269600.0achurchnearyou
CATEGORIES:
DESCRIPTION:Common Worship Order 1\, contemporary English language\, with 
 hymns\, choir and sermon. The service is Live-streamed.
GEO:5.139206;52.090024
LOCATION:Holy Trinity Church Utrecht
URL:https://www.holytrinityutrecht.nl/
END:VEVENT
BEGIN:VEVENT
SUMMARY:Choral Communion (English)
DTSTART;TZID=Europe/London:20260816T110000
DTEND;TZID=Europe/London:20260816T123000
DTSTAMP:20260423T192715Z
UID:217281786874400.0achurchnearyou
CATEGORIES:
DESCRIPTION:Common Worship Order 1\, contemporary English language\, with 
 hymns\, choir and sermon. The service is Live-streamed.
GEO:5.139206;52.090024
LOCATION:Holy Trinity Church Utrecht
URL:https://www.holytrinityutrecht.nl/
END:VEVENT
BEGIN:VEVENT
SUMMARY:Choral Communion (English)
DTSTART;TZID=Europe/London:20260823T110000
DTEND;TZID=Europe/London:20260823T123000
DTSTAMP:20260423T192715Z
UID:217281787479200.0achurchnearyou
CATEGORIES:
DESCRIPTION:Common Worship Order 1\, contemporary English language\, with 
 hymns\, choir and sermon. The service is Live-streamed.
GEO:5.139206;52.090024
LOCATION:Holy Trinity Church Utrecht
URL:https://www.holytrinityutrecht.nl/
END:VEVENT
BEGIN:VEVENT
SUMMARY:Sung Solemn Eucharist (English)
DTSTART;TZID=Europe/London:20260830T091500
DTEND;TZID=Europe/London:20260830T101500
DTSTAMP:20260423T192715Z
UID:2195201788077700.0achurchnearyou
CATEGORIES:
DESCRIPTION:Service in traditional English language with piano accompanime
 nt for the hymns.
GEO:5.139206;52.090024
LOCATION:Holy Trinity Church Utrecht
URL:https://www.holytrinityutrecht.nl/
END:VEVENT
BEGIN:VEVENT
SUMMARY:Choral Solemn Eucharist (English)
DTSTART;TZID=Europe/London:20260830T110000
DTEND;TZID=Europe/London:20260830T123000
DTSTAMP:20260423T192715Z
UID:11528621788084000.0achurchnearyou
CATEGORIES:
DESCRIPTION:Service in traditional English language.
LOCATION:Holy Trinity Church Utrecht
URL:https://www.holytrinityutrecht.nl/
END:VEVENT
BEGIN:VEVENT
SUMMARY:Sung Holy Communion (Dutch)
DTSTART;TZID=Europe/London:20260906T090000
DTEND;TZID=Europe/London:20260906T100000
DTSTAMP:20260423T192715Z
UID:11526721788681600.0achurchnearyou
CATEGORIES:
DESCRIPTION:Join us for a service of Holy Communion in Dutch according to 
 Common Worship\, in traditional language. With organ accompaniment.
LOCATION:Holy Trinity Church Utrecht
URL:https://www.achurchnearyou.com/church/7366/service-and-events/events/1
 152672/
END:VEVENT
BEGIN:VEVENT
SUMMARY:All Age Worship (English)
DTSTART;TZID=Europe/London:20260906T110000
DTEND;TZID=Europe/London:20260906T123000
DTSTAMP:20260423T192715Z
UID:217881788688800.0achurchnearyou
CATEGORIES:
DESCRIPTION:Holy Communion (English) with Talk and our Worship Band leadin
 g us in music.
GEO:5.139206;52.090024
LOCATION:Holy Trinity Church Utrecht
URL:https://www.holytrinityutrecht.nl/
END:VEVENT
BEGIN:VEVENT
SUMMARY:Sung Holy Communion
DTSTART;TZID=Europe/London:20260913T091500
DTEND;TZID=Europe/London:20260913T101500
DTSTAMP:20260423T192715Z
UID:11528601789287300.0achurchnearyou
CATEGORIES:
DESCRIPTION:Join us for a service of Holy Communion with hymns and piano a
 ccompaniment.
LOCATION:Holy Trinity Church Utrecht
URL:https://www.achurchnearyou.com/church/7366/service-and-events/events/1
 152860/
END:VEVENT
BEGIN:VEVENT
SUMMARY:Choral Communion (English)
DTSTART;TZID=Europe/London:20260913T110000
DTEND;TZID=Europe/London:20260913T123000
DTSTAMP:20260423T192715Z
UID:217281789293600.0achurchnearyou
CATEGORIES:
DESCRIPTION:Common Worship Order 1\, contemporary English language\, with 
 hymns\, choir and sermon. The service is Live-streamed.
GEO:5.139206;52.090024
LOCATION:Holy Trinity Church Utrecht
URL:https://www.holytrinityutrecht.nl/
END:VEVENT
BEGIN:VEVENT
SUMMARY:Choral Evensong
DTSTART;TZID=Europe/London:20260913T170000
DTEND;TZID=Europe/London:20260913T180000
DTSTAMP:20260423T192715Z
UID:8460781789315200.0achurchnearyou
CATEGORIES:
DESCRIPTION:Traditional Evening Prayer led by the Choir.\nNB No Choral Eve
 nsong in April 2026
GEO:5.139206;52.090024
LOCATION:Holy Trinity Church Utrecht
URL:https://www.achurchnearyou.com/church/7366/service-and-events/events/8
 46078/
END:VEVENT
BEGIN:VEVENT
SUMMARY:Sung Holy Communion
DTSTART;TZID=Europe/London:20260920T091500
DTEND;TZID=Europe/London:20260920T101500
DTSTAMP:20260423T192715Z
UID:11528601789892100.0achurchnearyou
CATEGORIES:
DESCRIPTION:Join us for a service of Holy Communion with hymns and piano a
 ccompaniment.
LOCATION:Holy Trinity Church Utrecht
URL:https://www.achurchnearyou.com/church/7366/service-and-events/events/1
 152860/
END:VEVENT
BEGIN:VEVENT
SUMMARY:Choral Communion (English)
DTSTART;TZID=Europe/London:20260920T110000
DTEND;TZID=Europe/London:20260920T123000
DTSTAMP:20260423T192715Z
UID:217281789898400.0achurchnearyou
CATEGORIES:
DESCRIPTION:Common Worship Order 1\, contemporary English language\, with 
 hymns\, choir and sermon. The service is Live-streamed.
GEO:5.139206;52.090024
LOCATION:Holy Trinity Church Utrecht
URL:https://www.holytrinityutrecht.nl/
END:VEVENT
BEGIN:VEVENT
SUMMARY:Sung Holy Communion
DTSTART;TZID=Europe/London:20260927T091500
DTEND;TZID=Europe/London:20260927T101500
DTSTAMP:20260423T192715Z
UID:11528601790496900.0achurchnearyou
CATEGORIES:
DESCRIPTION:Join us for a service of Holy Communion with hymns and piano a
 ccompaniment.
LOCATION:Holy Trinity Church Utrecht
URL:https://www.achurchnearyou.com/church/7366/service-and-events/events/1
 152860/
END:VEVENT
BEGIN:VEVENT
SUMMARY:Choral Communion (English)
DTSTART;TZID=Europe/London:20260927T110000
DTEND;TZID=Europe/London:20260927T123000
DTSTAMP:20260423T192715Z
UID:217281790503200.0achurchnearyou
CATEGORIES:
DESCRIPTION:Common Worship Order 1\, contemporary English language\, with 
 hymns\, choir and sermon. The service is Live-streamed.
GEO:5.139206;52.090024
LOCATION:Holy Trinity Church Utrecht
URL:https://www.holytrinityutrecht.nl/
END:VEVENT
END:VCALENDAR
