BEGIN:VCALENDAR
VERSION:2.0
PRODID:-//achurchnearyou.com//eventfeed//EN
CALSCALE:GREGORIAN
METHOD:PUBLISH
X-WR-TIMEZONE:UTC
BEGIN:VEVENT
SUMMARY:Messy church
DTSTART;TZID=Europe/London:20260515T151500
DTEND;TZID=Europe/London:20260515T161500
DTSTAMP:20260421T124609Z
UID:4822122026-05-15 15:15:00+01:00achurchnearyou
CATEGORIES:
DESCRIPTION:Church for everyone\, singles\, couples\, families\, all ages\
 , all types\, something different\, wonderful and messy.
GEO:-1.501691;53.441328
LOCATION:St Mark's Church in Grenoside
URL:https://www.achurchnearyou.com/church/7383/service-and-events/events/4
 82212/
END:VEVENT
BEGIN:VEVENT
SUMMARY:Messy church
DTSTART;TZID=Europe/London:20260619T151500
DTEND;TZID=Europe/London:20260619T161500
DTSTAMP:20260421T124609Z
UID:4822122026-06-19 15:15:00+01:00achurchnearyou
CATEGORIES:
DESCRIPTION:Church for everyone\, singles\, couples\, families\, all ages\
 , all types\, something different\, wonderful and messy.
GEO:-1.501691;53.441328
LOCATION:St Mark's Church in Grenoside
URL:https://www.achurchnearyou.com/church/7383/service-and-events/events/4
 82212/
END:VEVENT
BEGIN:VEVENT
SUMMARY:Messy church
DTSTART;TZID=Europe/London:20260717T151500
DTEND;TZID=Europe/London:20260717T161500
DTSTAMP:20260421T124609Z
UID:4822122026-07-17 15:15:00+01:00achurchnearyou
CATEGORIES:
DESCRIPTION:Church for everyone\, singles\, couples\, families\, all ages\
 , all types\, something different\, wonderful and messy.
GEO:-1.501691;53.441328
LOCATION:St Mark's Church in Grenoside
URL:https://www.achurchnearyou.com/church/7383/service-and-events/events/4
 82212/
END:VEVENT
BEGIN:VEVENT
SUMMARY:Messy church
DTSTART;TZID=Europe/London:20260821T151500
DTEND;TZID=Europe/London:20260821T161500
DTSTAMP:20260421T124609Z
UID:4822122026-08-21 15:15:00+01:00achurchnearyou
CATEGORIES:
DESCRIPTION:Church for everyone\, singles\, couples\, families\, all ages\
 , all types\, something different\, wonderful and messy.
GEO:-1.501691;53.441328
LOCATION:St Mark's Church in Grenoside
URL:https://www.achurchnearyou.com/church/7383/service-and-events/events/4
 82212/
END:VEVENT
BEGIN:VEVENT
SUMMARY:Messy church
DTSTART;TZID=Europe/London:20260918T151500
DTEND;TZID=Europe/London:20260918T161500
DTSTAMP:20260421T124609Z
UID:4822122026-09-18 15:15:00+01:00achurchnearyou
CATEGORIES:
DESCRIPTION:Church for everyone\, singles\, couples\, families\, all ages\
 , all types\, something different\, wonderful and messy.
GEO:-1.501691;53.441328
LOCATION:St Mark's Church in Grenoside
URL:https://www.achurchnearyou.com/church/7383/service-and-events/events/4
 82212/
END:VEVENT
BEGIN:VEVENT
SUMMARY:Messy church
DTSTART;TZID=Europe/London:20261016T151500
DTEND;TZID=Europe/London:20261016T161500
DTSTAMP:20260421T124609Z
UID:4822122026-10-16 15:15:00+01:00achurchnearyou
CATEGORIES:
DESCRIPTION:Church for everyone\, singles\, couples\, families\, all ages\
 , all types\, something different\, wonderful and messy.
GEO:-1.501691;53.441328
LOCATION:St Mark's Church in Grenoside
URL:https://www.achurchnearyou.com/church/7383/service-and-events/events/4
 82212/
END:VEVENT
BEGIN:VEVENT
SUMMARY:Messy church
DTSTART;TZID=Europe/London:20261120T151500
DTEND;TZID=Europe/London:20261120T161500
DTSTAMP:20260421T124609Z
UID:4822122026-11-20 15:15:00+00:00achurchnearyou
CATEGORIES:
DESCRIPTION:Church for everyone\, singles\, couples\, families\, all ages\
 , all types\, something different\, wonderful and messy.
GEO:-1.501691;53.441328
LOCATION:St Mark's Church in Grenoside
URL:https://www.achurchnearyou.com/church/7383/service-and-events/events/4
 82212/
END:VEVENT
BEGIN:VEVENT
SUMMARY:Messy church
DTSTART;TZID=Europe/London:20261218T151500
DTEND;TZID=Europe/London:20261218T161500
DTSTAMP:20260421T124609Z
UID:4822122026-12-18 15:15:00+00:00achurchnearyou
CATEGORIES:
DESCRIPTION:Church for everyone\, singles\, couples\, families\, all ages\
 , all types\, something different\, wonderful and messy.
GEO:-1.501691;53.441328
LOCATION:St Mark's Church in Grenoside
URL:https://www.achurchnearyou.com/church/7383/service-and-events/events/4
 82212/
END:VEVENT
BEGIN:VEVENT
SUMMARY:Messy church
DTSTART;TZID=Europe/London:20270115T151500
DTEND;TZID=Europe/London:20270115T161500
DTSTAMP:20260421T124609Z
UID:4822122027-01-15 15:15:00+00:00achurchnearyou
CATEGORIES:
DESCRIPTION:Church for everyone\, singles\, couples\, families\, all ages\
 , all types\, something different\, wonderful and messy.
GEO:-1.501691;53.441328
LOCATION:St Mark's Church in Grenoside
URL:https://www.achurchnearyou.com/church/7383/service-and-events/events/4
 82212/
END:VEVENT
BEGIN:VEVENT
SUMMARY:Messy church
DTSTART;TZID=Europe/London:20270219T151500
DTEND;TZID=Europe/London:20270219T161500
DTSTAMP:20260421T124609Z
UID:4822122027-02-19 15:15:00+00:00achurchnearyou
CATEGORIES:
DESCRIPTION:Church for everyone\, singles\, couples\, families\, all ages\
 , all types\, something different\, wonderful and messy.
GEO:-1.501691;53.441328
LOCATION:St Mark's Church in Grenoside
URL:https://www.achurchnearyou.com/church/7383/service-and-events/events/4
 82212/
END:VEVENT
BEGIN:VEVENT
SUMMARY:Messy church
DTSTART;TZID=Europe/London:20270319T151500
DTEND;TZID=Europe/London:20270319T161500
DTSTAMP:20260421T124609Z
UID:4822122027-03-19 15:15:00+00:00achurchnearyou
CATEGORIES:
DESCRIPTION:Church for everyone\, singles\, couples\, families\, all ages\
 , all types\, something different\, wonderful and messy.
GEO:-1.501691;53.441328
LOCATION:St Mark's Church in Grenoside
URL:https://www.achurchnearyou.com/church/7383/service-and-events/events/4
 82212/
END:VEVENT
BEGIN:VEVENT
SUMMARY:Messy church
DTSTART;TZID=Europe/London:20270416T151500
DTEND;TZID=Europe/London:20270416T161500
DTSTAMP:20260421T124609Z
UID:4822122027-04-16 15:15:00+01:00achurchnearyou
CATEGORIES:
DESCRIPTION:Church for everyone\, singles\, couples\, families\, all ages\
 , all types\, something different\, wonderful and messy.
GEO:-1.501691;53.441328
LOCATION:St Mark's Church in Grenoside
URL:https://www.achurchnearyou.com/church/7383/service-and-events/events/4
 82212/
END:VEVENT
END:VCALENDAR
