BEGIN:VCALENDAR
VERSION:2.0
PRODID:-//achurchnearyou.com//eventfeed//EN
CALSCALE:GREGORIAN
METHOD:PUBLISH
X-WR-TIMEZONE:UTC
BEGIN:VEVENT
SUMMARY:ST FURSEY COMMEMORATION SERVICE
DTSTART:20251012T140000Z
DTEND:20251012T163000Z
DTSTAMP:20260424T025052Z
UID:12267132025-10-12 14:00:00+00:00achurchnearyou
CATEGORIES:
DESCRIPTION:Special service in honour of St.Fursey the first known named m
 issionary to this part of Norfolk.  An ecumenical service in church\, foll
 owed by an optional walk to the roman Fort site of Fursey's monastery and 
 back to village Hall for light refreshments and meet up with friends.
GEO:1.65402;52.58573
LOCATION:Burgh Castle: St Peter & St Paul
URL:https://www.achurchnearyou.com/church/7404/service-and-events/events/1
 226713/
END:VEVENT
END:VCALENDAR
