BEGIN:VCALENDAR
VERSION:2.0
PRODID:-//achurchnearyou.com//eventfeed//EN
CALSCALE:GREGORIAN
METHOD:PUBLISH
X-WR-TIMEZONE:UTC
BEGIN:VEVENT
SUMMARY:MORNING PRAYER
DTSTART;TZID=Europe/London:20260412T093000
DTEND;TZID=Europe/London:20260412T103000
DTSTAMP:20260423T090934Z
UID:13185612026-04-12 09:30:00+01:00achurchnearyou
CATEGORIES:
DESCRIPTION:Traditional worship in a small but friendly church
GEO:1.65402;52.58573
LOCATION:Burgh Castle: St Peter & St Paul
URL:https://www.achurchnearyou.com/church/7404/service-and-events/events/1
 318561/
END:VEVENT
BEGIN:VEVENT
SUMMARY:MORNING PRAYER
DTSTART;TZID=Europe/London:20260426T093000
DTEND;TZID=Europe/London:20260426T103000
DTSTAMP:20260423T090934Z
UID:13185612026-04-26 09:30:00+01:00achurchnearyou
CATEGORIES:
DESCRIPTION:Traditional worship in a small but friendly church
GEO:1.65402;52.58573
LOCATION:Burgh Castle: St Peter & St Paul
URL:https://www.achurchnearyou.com/church/7404/service-and-events/events/1
 318561/
END:VEVENT
END:VCALENDAR
