BEGIN:VCALENDAR
VERSION:2.0
PRODID:-//achurchnearyou.com//eventfeed//EN
CALSCALE:GREGORIAN
METHOD:PUBLISH
X-WR-TIMEZONE:UTC
BEGIN:VEVENT
SUMMARY:Christmas Eve Holy Communion
DTSTART:20251124T223000Z
DTEND:20251124T233000Z
DTSTAMP:20260425T154424Z
UID:12423912025-11-24 22:30:00+00:00achurchnearyou
CATEGORIES:
DESCRIPTION:Our quiet service as we welcome Christmas
GEO:-0.968178;51.219415
LOCATION:St Andrew's\, South Warnborough
URL:https://www.achurchnearyou.com/church/7420/service-and-events/events/1
 242391/
END:VEVENT
END:VCALENDAR
