BEGIN:VCALENDAR
VERSION:2.0
PRODID:-//achurchnearyou.com//eventfeed//EN
CALSCALE:GREGORIAN
METHOD:PUBLISH
X-WR-TIMEZONE:UTC
BEGIN:VEVENT
SUMMARY:Enrich Me with Your Difference Exhibition
DTSTART:20240408T110000Z
DTEND:20240503T120000Z
DTSTAMP:20260426T040714Z
UID:10626582024-04-08 11:00:00+00:00achurchnearyou
CATEGORIES:
DESCRIPTION:“Enrich me with your difference” is a photography exhibiti
 on by the award-winning humanitarian photographer\, Jonathan Banks\, that 
 celebrates a career of working with charitable organisations and encourage
 s everyone to look for opportunities in their lives of making a difference
 .
LOCATION:St Albans Cathedral
URL:https://www.stalbanscathedral.org/Event/enrich-me-with-your-difference
END:VEVENT
END:VCALENDAR
