BEGIN:VCALENDAR
VERSION:2.0
PRODID:-//achurchnearyou.com//eventfeed//EN
CALSCALE:GREGORIAN
METHOD:PUBLISH
X-WR-TIMEZONE:UTC
BEGIN:VEVENT
SUMMARY:Lent Course
DTSTART;TZID=Europe/London:20250312T193000
DTEND;TZID=Europe/London:20250312T210000
DTSTAMP:20260425T140114Z
UID:11599002025-03-12 19:30:00+00:00achurchnearyou
CATEGORIES:
DESCRIPTION:A five-week series looking at the Beatitudes. Come to one or c
 ome to them all.
GEO:-0.316348;51.68034
LOCATION:Christ Church Radlett
URL:https://www.achurchnearyou.com/church/7545/service-and-events/events/1
 159900/
END:VEVENT
BEGIN:VEVENT
SUMMARY:Lent Course
DTSTART;TZID=Europe/London:20250319T193000
DTEND;TZID=Europe/London:20250319T210000
DTSTAMP:20260425T140114Z
UID:11599002025-03-19 19:30:00+00:00achurchnearyou
CATEGORIES:
DESCRIPTION:A five-week series looking at the Beatitudes. Come to one or c
 ome to them all.
GEO:-0.316348;51.68034
LOCATION:Christ Church Radlett
URL:https://www.achurchnearyou.com/church/7545/service-and-events/events/1
 159900/
END:VEVENT
BEGIN:VEVENT
SUMMARY:Lent Course
DTSTART;TZID=Europe/London:20250326T193000
DTEND;TZID=Europe/London:20250326T210000
DTSTAMP:20260425T140114Z
UID:11599002025-03-26 19:30:00+00:00achurchnearyou
CATEGORIES:
DESCRIPTION:A five-week series looking at the Beatitudes. Come to one or c
 ome to them all.
GEO:-0.316348;51.68034
LOCATION:Christ Church Radlett
URL:https://www.achurchnearyou.com/church/7545/service-and-events/events/1
 159900/
END:VEVENT
BEGIN:VEVENT
SUMMARY:Lent Course
DTSTART;TZID=Europe/London:20250402T193000
DTEND;TZID=Europe/London:20250402T210000
DTSTAMP:20260425T140114Z
UID:11599002025-04-02 19:30:00+01:00achurchnearyou
CATEGORIES:
DESCRIPTION:A five-week series looking at the Beatitudes. Come to one or c
 ome to them all.
GEO:-0.316348;51.68034
LOCATION:Christ Church Radlett
URL:https://www.achurchnearyou.com/church/7545/service-and-events/events/1
 159900/
END:VEVENT
BEGIN:VEVENT
SUMMARY:Lent Course
DTSTART;TZID=Europe/London:20250409T193000
DTEND;TZID=Europe/London:20250409T210000
DTSTAMP:20260425T140114Z
UID:11599002025-04-09 19:30:00+01:00achurchnearyou
CATEGORIES:
DESCRIPTION:A five-week series looking at the Beatitudes. Come to one or c
 ome to them all.
GEO:-0.316348;51.68034
LOCATION:Christ Church Radlett
URL:https://www.achurchnearyou.com/church/7545/service-and-events/events/1
 159900/
END:VEVENT
END:VCALENDAR
