BEGIN:VCALENDAR
VERSION:2.0
PRODID:-//achurchnearyou.com//eventfeed//EN
CALSCALE:GREGORIAN
METHOD:PUBLISH
X-WR-TIMEZONE:UTC
BEGIN:VEVENT
SUMMARY:Commemoration of Foot-washing and Last Supper
DTSTART:20250417T183000Z
DTEND:20250417T193000Z
DTSTAMP:20260425T171853Z
UID:11599042025-04-17 18:30:00+00:00achurchnearyou
CATEGORIES:
DESCRIPTION:A contemplative service for Maundy Thursday\, leading into a v
 igil in the garden
LOCATION:St Martin's\, Shenley
URL:https://www.achurchnearyou.com/church/7545/service-and-events/events/1
 159904/
END:VEVENT
END:VCALENDAR
