BEGIN:VCALENDAR
VERSION:2.0
PRODID:-//achurchnearyou.com//eventfeed//EN
CALSCALE:GREGORIAN
METHOD:PUBLISH
X-WR-TIMEZONE:UTC
BEGIN:VEVENT
SUMMARY:All Souls Requiem Mass
DTSTART:20251102T180000Z
DTEND:20251102T190000Z
DTSTAMP:20260419T165014Z
UID:12283792025-11-02 18:00:00+00:00achurchnearyou
CATEGORIES:
DESCRIPTION:We gather at 6pm to remember with thanksgiving loved ones who 
 have passed from this life. The Church Choir will sing the glorious settin
 g of the Requiem Mass by the French composer Maruice Duruflé (1902–1986
 ). It is our tradition at St Peter’s to read out the names of the depart
 ed during the evening service. If you would like to include the name of so
 meone you have lost\, whether recently or many years ago\, please write th
 eir name on the list at the back of church. The list will be available unt
 il Thursday 30 November. You can also email the names (by Thursday 30 Nov
 ember at the latest please) to:
GEO:-0.561682;51.759614
LOCATION:St Peter's Berkhamsted
URL:https://www.achurchnearyou.com/church/7548/service-and-events/events/1
 228379/
END:VEVENT
END:VCALENDAR
