BEGIN:VCALENDAR
VERSION:2.0
PRODID:-//achurchnearyou.com//eventfeed//EN
CALSCALE:GREGORIAN
METHOD:PUBLISH
X-WR-TIMEZONE:UTC
BEGIN:VEVENT
SUMMARY:Festival of Light
DTSTART:20251123T153000Z
DTEND:20251123T180000Z
DTSTAMP:20260419T150330Z
UID:12397572025-11-23 15:30:00+00:00achurchnearyou
CATEGORIES:
DESCRIPTION:Experience the historic building of St Peter's Church by candl
 elight\, where we celebrate the promise of “light in the darkness”. Du
 ring the town's Festival of Light celebration\, we open our doors to the p
 ublic. Wander around and see the spectacle of thousands of candles in the 
 Gothic architecture\, pause for a moment of prayer or contemplation\, or j
 ust wander around. Hot Glühwein will be on sale\, and there may be a musi
 cal surprise from our church choir!\n\nEntry is FREE but donations are ver
 y welcome - we're raising money to get our leaking fixed!\n\nEveryone is w
 elcome at St Peter’s\, whatever your beliefs\, whether you are exploring
  faith or just feeling festive
GEO:-0.561682;51.759614
LOCATION:St Peter's Berkhamsted
URL:https://www.achurchnearyou.com/church/7548/service-and-events/events/1
 239757/
END:VEVENT
END:VCALENDAR
