BEGIN:VCALENDAR
VERSION:2.0
PRODID:-//achurchnearyou.com//eventfeed//EN
CALSCALE:GREGORIAN
METHOD:PUBLISH
X-WR-TIMEZONE:UTC
BEGIN:VEVENT
SUMMARY:Community Christmas Concert
DTSTART:20251203T193000Z
DTEND:20251203T203000Z
DTSTAMP:20260419T130002Z
UID:12448052025-12-03 19:30:00+00:00achurchnearyou
CATEGORIES:
DESCRIPTION:As Christmas approaches\, we hold an evening of festive music 
 with Christmas chart toppers\, celebrity readings and congregational carol
 s. Festive music will be performed by the Ridgeway Chorale\, John Knowles\
 , Rachel Edmunds and Madalina Turan. Readings will include Bible passages\
 , together with modern yuletide messages evoking thoughtfulness and laught
 er. Our guest readers will include comedian and broadcaster Robin Ince\; T
 V food and drink host Nigel Barden\; Sue Jordan\, Mayor of Berkhamsted\; P
 aul Ryan\, local business owner\; and the Head Boy of Berkhamsted School.\
 n\nTickets £10 - available from https://tickets.mp/christmas\nTicket pric
 e include interval mulled wine and a mince pie! All proceeds go to a local
  charity\, the Swan Youth Project.\n\nPlease note the event starts at 7.30
 pm and doors open at 7.00pm\nOrganised by Berkhamsted & District Chamber o
 f Commerce
GEO:-0.561682;51.759614
LOCATION:St Peter's Berkhamsted
URL:https://tickets.mp/christmas
END:VEVENT
END:VCALENDAR
