BEGIN:VCALENDAR
VERSION:2.0
PRODID:-//achurchnearyou.com//eventfeed//EN
CALSCALE:GREGORIAN
METHOD:PUBLISH
X-WR-TIMEZONE:UTC
BEGIN:VEVENT
SUMMARY:Holy Communion
DTSTART:20251225T080000Z
DTEND:20251225T083000Z
DTSTAMP:20260424T001602Z
UID:12382362025-12-25 08:00:00+00:00achurchnearyou
CATEGORIES:
DESCRIPTION:A service of Holy Communion to celebrate Christmas Day.
GEO:-0.589859;51.769366
LOCATION:St Mary's Northchurch
URL:https://www.achurchnearyou.com/church/7554/service-and-events/events/1
 238236/
END:VEVENT
END:VCALENDAR
