BEGIN:VCALENDAR
VERSION:2.0
PRODID:-//achurchnearyou.com//eventfeed//EN
CALSCALE:GREGORIAN
METHOD:PUBLISH
X-WR-TIMEZONE:UTC
BEGIN:VEVENT
SUMMARY:Reflection for Holy Week and Night Prayer
DTSTART;TZID=Europe/London:20260401T200000
DTEND;TZID=Europe/London:20260401T203000
DTSTAMP:20260422T132023Z
UID:13200801775070000.0achurchnearyou
CATEGORIES:
DESCRIPTION:Join us for a reflection on Matthews gospel followed by Night 
 Prayer (compline)
LOCATION:Tring: St Peter & St Paul
URL:http://www.tringteamparish.org.uk
END:VEVENT
BEGIN:VEVENT
SUMMARY:Maundy Thursday
DTSTART;TZID=Europe/London:20260402T200000
DTEND;TZID=Europe/London:20260402T210000
DTSTAMP:20260422T132023Z
UID:13200841775156400.0achurchnearyou
CATEGORIES:
DESCRIPTION:Service of Holy Communion followed by stripping the altars and
  vigil until midnight\, stay for the vigil for as long as you like. There 
 will be hand and foot-washing during the service but is optional.
LOCATION:Tring: St Peter & St Paul
URL:http://www.tringteamparish.org.uk
END:VEVENT
BEGIN:VEVENT
SUMMARY:Good Friday Worship for All
DTSTART;TZID=Europe/London:20260403T100000
DTEND;TZID=Europe/London:20260403T103000
DTSTAMP:20260422T132023Z
UID:13200881775206800.0achurchnearyou
CATEGORIES:
DESCRIPTION:Join us for this inter generational service as we remember the
  events of Good Friday
LOCATION:Tring: St Peter & St Paul
URL:http://www.tringteamparish.org.uk
END:VEVENT
BEGIN:VEVENT
SUMMARY:Churches Together Walk of Witness for Good Friday
DTSTART;TZID=Europe/London:20260403T110000
DTEND;TZID=Europe/London:20260403T120000
DTSTAMP:20260422T132023Z
UID:13200921775210400.0achurchnearyou
CATEGORIES:
DESCRIPTION:Join us as we walk in unity from St Marthas to Tring Churchyar
 d and remember the events of the first Good Friday. At the end of the serv
 ice we serve refreshments in Tring Church
LOCATION:Tring: St Peter & St Paul
URL:http://www.tringteamparish.org.uk
END:VEVENT
BEGIN:VEVENT
SUMMARY:Last hour at the cross for Good Friday
DTSTART;TZID=Europe/London:20260403T140000
DTEND;TZID=Europe/London:20260403T150000
DTSTAMP:20260422T132023Z
UID:13200671775221200.0achurchnearyou
CATEGORIES:
DESCRIPTION:Join us for a service as we commemorate the last hour at the c
 ross.
LOCATION:Puttenham: St Mary
URL:http://www.tringteamparish.org.uk
END:VEVENT
BEGIN:VEVENT
SUMMARY:Good Friday evening service for the villages
DTSTART;TZID=Europe/London:20260403T180000
DTEND;TZID=Europe/London:20260403T184500
DTSTAMP:20260422T132023Z
UID:13199191775235600.0achurchnearyou
CATEGORIES:
DESCRIPTION:Join us for this quiet service when we remember Jesus being la
 id in the tomb.
GEO:-0.703961;51.833621
LOCATION:Long Marston: All Saints
URL:http://www.tringteamparish.org.uk
END:VEVENT
BEGIN:VEVENT
SUMMARY:New Fire of Easter at dawn
DTSTART;TZID=Europe/London:20260405T060000
DTEND;TZID=Europe/London:20260405T070000
DTSTAMP:20260422T132023Z
UID:13200971775365200.0achurchnearyou
CATEGORIES:
DESCRIPTION:Join us for this dramatic service of new fire as the pascal ca
 ndle is lit and we celebrate the first Holy Communion of Easter. The servi
 ce starts outside at daybreak. Incense is used. At the end of the service 
 we share breakfast and a glass of fizz.
LOCATION:Tring: St Peter & St Paul
URL:http://www.tringteamparish.org.uk
END:VEVENT
BEGIN:VEVENT
SUMMARY:Easter Day Holy Communion for the 3 villages
DTSTART;TZID=Europe/London:20260405T100000
DTEND;TZID=Europe/London:20260405T110000
DTSTAMP:20260422T132023Z
UID:13200441775379600.0achurchnearyou
CATEGORIES:
DESCRIPTION:A joyful service for all ages. We celebrate together the risen
  Christ
GEO:-0.703961;51.833621
LOCATION:Long Marston: All Saints
URL:http://www.tringteamparish.org.uk
END:VEVENT
BEGIN:VEVENT
SUMMARY:Celtic Evening Prayer service
DTSTART;TZID=Europe/London:20260405T180000
DTEND;TZID=Europe/London:20260405T183000
DTSTAMP:20260422T132023Z
UID:6676511775408400.0achurchnearyou
CATEGORIES:
DESCRIPTION:An evening service\, Celtic Evening Prayer.  Please email jane
 @tringteamparish.org.uk for info.
GEO:-0.703961;51.833621
LOCATION:Long Marston: All Saints
URL:http://www.tringteamparish.org.uk
END:VEVENT
BEGIN:VEVENT
SUMMARY:Holy Communion in contemporary language
DTSTART;TZID=Europe/London:20260419T100000
DTEND;TZID=Europe/London:20260419T104500
DTSTAMP:20260422T132023Z
UID:7068451776589200.0achurchnearyou
CATEGORIES:
DESCRIPTION:A morning service.
LOCATION:Long Marston: All Saints
URL:http://www.tringteamparish.org.uk
END:VEVENT
BEGIN:VEVENT
SUMMARY:Celtic Evening Prayer service
DTSTART;TZID=Europe/London:20260503T180000
DTEND;TZID=Europe/London:20260503T183000
DTSTAMP:20260422T132023Z
UID:6676511777827600.0achurchnearyou
CATEGORIES:
DESCRIPTION:An evening service\, Celtic Evening Prayer.  Please email jane
 @tringteamparish.org.uk for info.
GEO:-0.703961;51.833621
LOCATION:Long Marston: All Saints
URL:http://www.tringteamparish.org.uk
END:VEVENT
BEGIN:VEVENT
SUMMARY:Holy Communion in contemporary language
DTSTART;TZID=Europe/London:20260517T100000
DTEND;TZID=Europe/London:20260517T104500
DTSTAMP:20260422T132023Z
UID:7068451779008400.0achurchnearyou
CATEGORIES:
DESCRIPTION:A morning service.
LOCATION:Long Marston: All Saints
URL:http://www.tringteamparish.org.uk
END:VEVENT
BEGIN:VEVENT
SUMMARY:Celtic Evening Prayer service
DTSTART;TZID=Europe/London:20260607T180000
DTEND;TZID=Europe/London:20260607T183000
DTSTAMP:20260422T132023Z
UID:6676511780851600.0achurchnearyou
CATEGORIES:
DESCRIPTION:An evening service\, Celtic Evening Prayer.  Please email jane
 @tringteamparish.org.uk for info.
GEO:-0.703961;51.833621
LOCATION:Long Marston: All Saints
URL:http://www.tringteamparish.org.uk
END:VEVENT
BEGIN:VEVENT
SUMMARY:Holy Communion in contemporary language
DTSTART;TZID=Europe/London:20260621T100000
DTEND;TZID=Europe/London:20260621T104500
DTSTAMP:20260422T132023Z
UID:7068451782032400.0achurchnearyou
CATEGORIES:
DESCRIPTION:A morning service.
LOCATION:Long Marston: All Saints
URL:http://www.tringteamparish.org.uk
END:VEVENT
BEGIN:VEVENT
SUMMARY:Celtic Evening Prayer service
DTSTART;TZID=Europe/London:20260705T180000
DTEND;TZID=Europe/London:20260705T183000
DTSTAMP:20260422T132023Z
UID:6676511783270800.0achurchnearyou
CATEGORIES:
DESCRIPTION:An evening service\, Celtic Evening Prayer.  Please email jane
 @tringteamparish.org.uk for info.
GEO:-0.703961;51.833621
LOCATION:Long Marston: All Saints
URL:http://www.tringteamparish.org.uk
END:VEVENT
BEGIN:VEVENT
SUMMARY:Holy Communion in contemporary language
DTSTART;TZID=Europe/London:20260719T100000
DTEND;TZID=Europe/London:20260719T104500
DTSTAMP:20260422T132023Z
UID:7068451784451600.0achurchnearyou
CATEGORIES:
DESCRIPTION:A morning service.
LOCATION:Long Marston: All Saints
URL:http://www.tringteamparish.org.uk
END:VEVENT
BEGIN:VEVENT
SUMMARY:Celtic Evening Prayer service
DTSTART;TZID=Europe/London:20260802T180000
DTEND;TZID=Europe/London:20260802T183000
DTSTAMP:20260422T132023Z
UID:6676511785690000.0achurchnearyou
CATEGORIES:
DESCRIPTION:An evening service\, Celtic Evening Prayer.  Please email jane
 @tringteamparish.org.uk for info.
GEO:-0.703961;51.833621
LOCATION:Long Marston: All Saints
URL:http://www.tringteamparish.org.uk
END:VEVENT
BEGIN:VEVENT
SUMMARY:Holy Communion in contemporary language
DTSTART;TZID=Europe/London:20260816T100000
DTEND;TZID=Europe/London:20260816T104500
DTSTAMP:20260422T132023Z
UID:7068451786870800.0achurchnearyou
CATEGORIES:
DESCRIPTION:A morning service.
LOCATION:Long Marston: All Saints
URL:http://www.tringteamparish.org.uk
END:VEVENT
BEGIN:VEVENT
SUMMARY:Celtic Evening Prayer service
DTSTART;TZID=Europe/London:20260906T180000
DTEND;TZID=Europe/London:20260906T183000
DTSTAMP:20260422T132023Z
UID:6676511788714000.0achurchnearyou
CATEGORIES:
DESCRIPTION:An evening service\, Celtic Evening Prayer.  Please email jane
 @tringteamparish.org.uk for info.
GEO:-0.703961;51.833621
LOCATION:Long Marston: All Saints
URL:http://www.tringteamparish.org.uk
END:VEVENT
BEGIN:VEVENT
SUMMARY:Holy Communion in contemporary language
DTSTART;TZID=Europe/London:20260920T100000
DTEND;TZID=Europe/London:20260920T104500
DTSTAMP:20260422T132023Z
UID:7068451789894800.0achurchnearyou
CATEGORIES:
DESCRIPTION:A morning service.
LOCATION:Long Marston: All Saints
URL:http://www.tringteamparish.org.uk
END:VEVENT
END:VCALENDAR
