BEGIN:VCALENDAR
VERSION:2.0
PRODID:-//achurchnearyou.com//eventfeed//EN
CALSCALE:GREGORIAN
METHOD:PUBLISH
X-WR-TIMEZONE:UTC
BEGIN:VEVENT
SUMMARY:Holy Communion (BCP)
DTSTART;TZID=Europe/London:20250503T130500
DTEND;TZID=Europe/London:20250503T133500
DTSTAMP:20260421T195258Z
UID:11965312025-05-03 13:05:00+01:00achurchnearyou
CATEGORIES:
DESCRIPTION:A said service of Holy Communion\, according to the 1662 Book 
 of Common Prayer.
GEO:-1.254895;51.750286
LOCATION:Christ Church Cathedral
URL:https://www.achurchnearyou.com/church/76/service-and-events/events/119
 6531/
END:VEVENT
BEGIN:VEVENT
SUMMARY:Holy Communion (BCP)
DTSTART;TZID=Europe/London:20250607T130500
DTEND;TZID=Europe/London:20250607T133500
DTSTAMP:20260421T195258Z
UID:11965312025-06-07 13:05:00+01:00achurchnearyou
CATEGORIES:
DESCRIPTION:A said service of Holy Communion\, according to the 1662 Book 
 of Common Prayer.
GEO:-1.254895;51.750286
LOCATION:Christ Church Cathedral
URL:https://www.achurchnearyou.com/church/76/service-and-events/events/119
 6531/
END:VEVENT
BEGIN:VEVENT
SUMMARY:Holy Communion (BCP)
DTSTART;TZID=Europe/London:20250705T130500
DTEND;TZID=Europe/London:20250705T133500
DTSTAMP:20260421T195258Z
UID:11965312025-07-05 13:05:00+01:00achurchnearyou
CATEGORIES:
DESCRIPTION:A said service of Holy Communion\, according to the 1662 Book 
 of Common Prayer.
GEO:-1.254895;51.750286
LOCATION:Christ Church Cathedral
URL:https://www.achurchnearyou.com/church/76/service-and-events/events/119
 6531/
END:VEVENT
BEGIN:VEVENT
SUMMARY:Holy Communion (BCP)
DTSTART;TZID=Europe/London:20250802T130500
DTEND;TZID=Europe/London:20250802T133500
DTSTAMP:20260421T195258Z
UID:11965312025-08-02 13:05:00+01:00achurchnearyou
CATEGORIES:
DESCRIPTION:A said service of Holy Communion\, according to the 1662 Book 
 of Common Prayer.
GEO:-1.254895;51.750286
LOCATION:Christ Church Cathedral
URL:https://www.achurchnearyou.com/church/76/service-and-events/events/119
 6531/
END:VEVENT
BEGIN:VEVENT
SUMMARY:Holy Communion (BCP)
DTSTART;TZID=Europe/London:20250906T130500
DTEND;TZID=Europe/London:20250906T133500
DTSTAMP:20260421T195258Z
UID:11965312025-09-06 13:05:00+01:00achurchnearyou
CATEGORIES:
DESCRIPTION:A said service of Holy Communion\, according to the 1662 Book 
 of Common Prayer.
GEO:-1.254895;51.750286
LOCATION:Christ Church Cathedral
URL:https://www.achurchnearyou.com/church/76/service-and-events/events/119
 6531/
END:VEVENT
BEGIN:VEVENT
SUMMARY:Holy Communion (BCP)
DTSTART;TZID=Europe/London:20251004T130500
DTEND;TZID=Europe/London:20251004T133500
DTSTAMP:20260421T195258Z
UID:11965312025-10-04 13:05:00+01:00achurchnearyou
CATEGORIES:
DESCRIPTION:A said service of Holy Communion\, according to the 1662 Book 
 of Common Prayer.
GEO:-1.254895;51.750286
LOCATION:Christ Church Cathedral
URL:https://www.achurchnearyou.com/church/76/service-and-events/events/119
 6531/
END:VEVENT
BEGIN:VEVENT
SUMMARY:Holy Communion (BCP)
DTSTART;TZID=Europe/London:20251101T130500
DTEND;TZID=Europe/London:20251101T133500
DTSTAMP:20260421T195258Z
UID:11965312025-11-01 13:05:00+00:00achurchnearyou
CATEGORIES:
DESCRIPTION:A said service of Holy Communion\, according to the 1662 Book 
 of Common Prayer.
GEO:-1.254895;51.750286
LOCATION:Christ Church Cathedral
URL:https://www.achurchnearyou.com/church/76/service-and-events/events/119
 6531/
END:VEVENT
BEGIN:VEVENT
SUMMARY:Holy Communion (BCP)
DTSTART;TZID=Europe/London:20251206T130500
DTEND;TZID=Europe/London:20251206T133500
DTSTAMP:20260421T195258Z
UID:11965312025-12-06 13:05:00+00:00achurchnearyou
CATEGORIES:
DESCRIPTION:A said service of Holy Communion\, according to the 1662 Book 
 of Common Prayer.
GEO:-1.254895;51.750286
LOCATION:Christ Church Cathedral
URL:https://www.achurchnearyou.com/church/76/service-and-events/events/119
 6531/
END:VEVENT
BEGIN:VEVENT
SUMMARY:Holy Communion (BCP)
DTSTART;TZID=Europe/London:20260103T130500
DTEND;TZID=Europe/London:20260103T133500
DTSTAMP:20260421T195258Z
UID:11965312026-01-03 13:05:00+00:00achurchnearyou
CATEGORIES:
DESCRIPTION:A said service of Holy Communion\, according to the 1662 Book 
 of Common Prayer.
GEO:-1.254895;51.750286
LOCATION:Christ Church Cathedral
URL:https://www.achurchnearyou.com/church/76/service-and-events/events/119
 6531/
END:VEVENT
BEGIN:VEVENT
SUMMARY:Holy Communion (BCP)
DTSTART;TZID=Europe/London:20260207T130500
DTEND;TZID=Europe/London:20260207T133500
DTSTAMP:20260421T195258Z
UID:11965312026-02-07 13:05:00+00:00achurchnearyou
CATEGORIES:
DESCRIPTION:A said service of Holy Communion\, according to the 1662 Book 
 of Common Prayer.
GEO:-1.254895;51.750286
LOCATION:Christ Church Cathedral
URL:https://www.achurchnearyou.com/church/76/service-and-events/events/119
 6531/
END:VEVENT
BEGIN:VEVENT
SUMMARY:Holy Communion (BCP)
DTSTART;TZID=Europe/London:20260307T130500
DTEND;TZID=Europe/London:20260307T133500
DTSTAMP:20260421T195258Z
UID:11965312026-03-07 13:05:00+00:00achurchnearyou
CATEGORIES:
DESCRIPTION:A said service of Holy Communion\, according to the 1662 Book 
 of Common Prayer.
GEO:-1.254895;51.750286
LOCATION:Christ Church Cathedral
URL:https://www.achurchnearyou.com/church/76/service-and-events/events/119
 6531/
END:VEVENT
BEGIN:VEVENT
SUMMARY:Holy Communion (BCP)
DTSTART;TZID=Europe/London:20260404T130500
DTEND;TZID=Europe/London:20260404T133500
DTSTAMP:20260421T195258Z
UID:11965312026-04-04 13:05:00+01:00achurchnearyou
CATEGORIES:
DESCRIPTION:A said service of Holy Communion\, according to the 1662 Book 
 of Common Prayer.
GEO:-1.254895;51.750286
LOCATION:Christ Church Cathedral
URL:https://www.achurchnearyou.com/church/76/service-and-events/events/119
 6531/
END:VEVENT
BEGIN:VEVENT
SUMMARY:Holy Communion (BCP)
DTSTART;TZID=Europe/London:20260502T130500
DTEND;TZID=Europe/London:20260502T133500
DTSTAMP:20260421T195258Z
UID:11965312026-05-02 13:05:00+01:00achurchnearyou
CATEGORIES:
DESCRIPTION:A said service of Holy Communion\, according to the 1662 Book 
 of Common Prayer.
GEO:-1.254895;51.750286
LOCATION:Christ Church Cathedral
URL:https://www.achurchnearyou.com/church/76/service-and-events/events/119
 6531/
END:VEVENT
BEGIN:VEVENT
SUMMARY:Holy Communion (BCP)
DTSTART;TZID=Europe/London:20260606T130500
DTEND;TZID=Europe/London:20260606T133500
DTSTAMP:20260421T195258Z
UID:11965312026-06-06 13:05:00+01:00achurchnearyou
CATEGORIES:
DESCRIPTION:A said service of Holy Communion\, according to the 1662 Book 
 of Common Prayer.
GEO:-1.254895;51.750286
LOCATION:Christ Church Cathedral
URL:https://www.achurchnearyou.com/church/76/service-and-events/events/119
 6531/
END:VEVENT
BEGIN:VEVENT
SUMMARY:Holy Communion (BCP)
DTSTART;TZID=Europe/London:20260704T130500
DTEND;TZID=Europe/London:20260704T133500
DTSTAMP:20260421T195258Z
UID:11965312026-07-04 13:05:00+01:00achurchnearyou
CATEGORIES:
DESCRIPTION:A said service of Holy Communion\, according to the 1662 Book 
 of Common Prayer.
GEO:-1.254895;51.750286
LOCATION:Christ Church Cathedral
URL:https://www.achurchnearyou.com/church/76/service-and-events/events/119
 6531/
END:VEVENT
BEGIN:VEVENT
SUMMARY:Holy Communion (BCP)
DTSTART;TZID=Europe/London:20260801T130500
DTEND;TZID=Europe/London:20260801T133500
DTSTAMP:20260421T195258Z
UID:11965312026-08-01 13:05:00+01:00achurchnearyou
CATEGORIES:
DESCRIPTION:A said service of Holy Communion\, according to the 1662 Book 
 of Common Prayer.
GEO:-1.254895;51.750286
LOCATION:Christ Church Cathedral
URL:https://www.achurchnearyou.com/church/76/service-and-events/events/119
 6531/
END:VEVENT
BEGIN:VEVENT
SUMMARY:Holy Communion (BCP)
DTSTART;TZID=Europe/London:20260905T130500
DTEND;TZID=Europe/London:20260905T133500
DTSTAMP:20260421T195258Z
UID:11965312026-09-05 13:05:00+01:00achurchnearyou
CATEGORIES:
DESCRIPTION:A said service of Holy Communion\, according to the 1662 Book 
 of Common Prayer.
GEO:-1.254895;51.750286
LOCATION:Christ Church Cathedral
URL:https://www.achurchnearyou.com/church/76/service-and-events/events/119
 6531/
END:VEVENT
BEGIN:VEVENT
SUMMARY:Holy Communion (BCP)
DTSTART;TZID=Europe/London:20261003T130500
DTEND;TZID=Europe/London:20261003T133500
DTSTAMP:20260421T195258Z
UID:11965312026-10-03 13:05:00+01:00achurchnearyou
CATEGORIES:
DESCRIPTION:A said service of Holy Communion\, according to the 1662 Book 
 of Common Prayer.
GEO:-1.254895;51.750286
LOCATION:Christ Church Cathedral
URL:https://www.achurchnearyou.com/church/76/service-and-events/events/119
 6531/
END:VEVENT
BEGIN:VEVENT
SUMMARY:Holy Communion (BCP)
DTSTART;TZID=Europe/London:20261107T130500
DTEND;TZID=Europe/London:20261107T133500
DTSTAMP:20260421T195258Z
UID:11965312026-11-07 13:05:00+00:00achurchnearyou
CATEGORIES:
DESCRIPTION:A said service of Holy Communion\, according to the 1662 Book 
 of Common Prayer.
GEO:-1.254895;51.750286
LOCATION:Christ Church Cathedral
URL:https://www.achurchnearyou.com/church/76/service-and-events/events/119
 6531/
END:VEVENT
BEGIN:VEVENT
SUMMARY:Holy Communion (BCP)
DTSTART;TZID=Europe/London:20261205T130500
DTEND;TZID=Europe/London:20261205T133500
DTSTAMP:20260421T195258Z
UID:11965312026-12-05 13:05:00+00:00achurchnearyou
CATEGORIES:
DESCRIPTION:A said service of Holy Communion\, according to the 1662 Book 
 of Common Prayer.
GEO:-1.254895;51.750286
LOCATION:Christ Church Cathedral
URL:https://www.achurchnearyou.com/church/76/service-and-events/events/119
 6531/
END:VEVENT
BEGIN:VEVENT
SUMMARY:Holy Communion (BCP)
DTSTART;TZID=Europe/London:20270102T130500
DTEND;TZID=Europe/London:20270102T133500
DTSTAMP:20260421T195258Z
UID:11965312027-01-02 13:05:00+00:00achurchnearyou
CATEGORIES:
DESCRIPTION:A said service of Holy Communion\, according to the 1662 Book 
 of Common Prayer.
GEO:-1.254895;51.750286
LOCATION:Christ Church Cathedral
URL:https://www.achurchnearyou.com/church/76/service-and-events/events/119
 6531/
END:VEVENT
BEGIN:VEVENT
SUMMARY:Holy Communion (BCP)
DTSTART;TZID=Europe/London:20270206T130500
DTEND;TZID=Europe/London:20270206T133500
DTSTAMP:20260421T195258Z
UID:11965312027-02-06 13:05:00+00:00achurchnearyou
CATEGORIES:
DESCRIPTION:A said service of Holy Communion\, according to the 1662 Book 
 of Common Prayer.
GEO:-1.254895;51.750286
LOCATION:Christ Church Cathedral
URL:https://www.achurchnearyou.com/church/76/service-and-events/events/119
 6531/
END:VEVENT
BEGIN:VEVENT
SUMMARY:Holy Communion (BCP)
DTSTART;TZID=Europe/London:20270306T130500
DTEND;TZID=Europe/London:20270306T133500
DTSTAMP:20260421T195258Z
UID:11965312027-03-06 13:05:00+00:00achurchnearyou
CATEGORIES:
DESCRIPTION:A said service of Holy Communion\, according to the 1662 Book 
 of Common Prayer.
GEO:-1.254895;51.750286
LOCATION:Christ Church Cathedral
URL:https://www.achurchnearyou.com/church/76/service-and-events/events/119
 6531/
END:VEVENT
BEGIN:VEVENT
SUMMARY:Holy Communion (BCP)
DTSTART;TZID=Europe/London:20270403T130500
DTEND;TZID=Europe/London:20270403T133500
DTSTAMP:20260421T195258Z
UID:11965312027-04-03 13:05:00+01:00achurchnearyou
CATEGORIES:
DESCRIPTION:A said service of Holy Communion\, according to the 1662 Book 
 of Common Prayer.
GEO:-1.254895;51.750286
LOCATION:Christ Church Cathedral
URL:https://www.achurchnearyou.com/church/76/service-and-events/events/119
 6531/
END:VEVENT
END:VCALENDAR
