BEGIN:VCALENDAR
VERSION:2.0
PRODID:-//achurchnearyou.com//eventfeed//EN
CALSCALE:GREGORIAN
METHOD:PUBLISH
X-WR-TIMEZONE:UTC
BEGIN:VEVENT
SUMMARY:Wonderlings - Cathedral Children's Group
DTSTART;TZID=Europe/London:20251208T100000
DTEND;TZID=Europe/London:20251208T120000
DTSTAMP:20260421T195301Z
UID:12689782025-12-08 10:00:00+00:00achurchnearyou
CATEGORIES:
DESCRIPTION:You're never too young to wonder! Wonderlings is our free chil
 dren's group pre-school children from birth and their adults\, which takes
  place on Mondays during school term-time from 10am-12pm in the Priory Roo
 m (just off the cloisters). Expect gathering time with free play\, circle 
 time with Bible-themed activities and interactive music making\, story tim
 e with a thought for the day\, and refreshments and a cuppa at the end. We
  hope that a Wonderlings session will awaken a sense of curiosity and awe 
 in everyone\, whatever their age and stage!
GEO:-1.254895;51.750286
LOCATION:Christ Church Cathedral
URL:https://www.achurchnearyou.com/church/76/service-and-events/events/126
 8978/
END:VEVENT
BEGIN:VEVENT
SUMMARY:Wonderlings - Cathedral Children's Group
DTSTART;TZID=Europe/London:20251215T100000
DTEND;TZID=Europe/London:20251215T120000
DTSTAMP:20260421T195301Z
UID:12689782025-12-15 10:00:00+00:00achurchnearyou
CATEGORIES:
DESCRIPTION:You're never too young to wonder! Wonderlings is our free chil
 dren's group pre-school children from birth and their adults\, which takes
  place on Mondays during school term-time from 10am-12pm in the Priory Roo
 m (just off the cloisters). Expect gathering time with free play\, circle 
 time with Bible-themed activities and interactive music making\, story tim
 e with a thought for the day\, and refreshments and a cuppa at the end. We
  hope that a Wonderlings session will awaken a sense of curiosity and awe 
 in everyone\, whatever their age and stage!
GEO:-1.254895;51.750286
LOCATION:Christ Church Cathedral
URL:https://www.achurchnearyou.com/church/76/service-and-events/events/126
 8978/
END:VEVENT
BEGIN:VEVENT
SUMMARY:Wonderlings - Cathedral Children's Group
DTSTART;TZID=Europe/London:20260112T100000
DTEND;TZID=Europe/London:20260112T120000
DTSTAMP:20260421T195301Z
UID:12689782026-01-12 10:00:00+00:00achurchnearyou
CATEGORIES:
DESCRIPTION:You're never too young to wonder! Wonderlings is our free chil
 dren's group pre-school children from birth and their adults\, which takes
  place on Mondays during school term-time from 10am-12pm in the Priory Roo
 m (just off the cloisters). Expect gathering time with free play\, circle 
 time with Bible-themed activities and interactive music making\, story tim
 e with a thought for the day\, and refreshments and a cuppa at the end. We
  hope that a Wonderlings session will awaken a sense of curiosity and awe 
 in everyone\, whatever their age and stage!
GEO:-1.254895;51.750286
LOCATION:Christ Church Cathedral
URL:https://www.achurchnearyou.com/church/76/service-and-events/events/126
 8978/
END:VEVENT
BEGIN:VEVENT
SUMMARY:Wonderlings - Cathedral Children's Group
DTSTART;TZID=Europe/London:20260119T100000
DTEND;TZID=Europe/London:20260119T120000
DTSTAMP:20260421T195301Z
UID:12689782026-01-19 10:00:00+00:00achurchnearyou
CATEGORIES:
DESCRIPTION:You're never too young to wonder! Wonderlings is our free chil
 dren's group pre-school children from birth and their adults\, which takes
  place on Mondays during school term-time from 10am-12pm in the Priory Roo
 m (just off the cloisters). Expect gathering time with free play\, circle 
 time with Bible-themed activities and interactive music making\, story tim
 e with a thought for the day\, and refreshments and a cuppa at the end. We
  hope that a Wonderlings session will awaken a sense of curiosity and awe 
 in everyone\, whatever their age and stage!
GEO:-1.254895;51.750286
LOCATION:Christ Church Cathedral
URL:https://www.achurchnearyou.com/church/76/service-and-events/events/126
 8978/
END:VEVENT
BEGIN:VEVENT
SUMMARY:Wonderlings - Cathedral Children's Group
DTSTART;TZID=Europe/London:20260126T100000
DTEND;TZID=Europe/London:20260126T120000
DTSTAMP:20260421T195301Z
UID:12689782026-01-26 10:00:00+00:00achurchnearyou
CATEGORIES:
DESCRIPTION:You're never too young to wonder! Wonderlings is our free chil
 dren's group pre-school children from birth and their adults\, which takes
  place on Mondays during school term-time from 10am-12pm in the Priory Roo
 m (just off the cloisters). Expect gathering time with free play\, circle 
 time with Bible-themed activities and interactive music making\, story tim
 e with a thought for the day\, and refreshments and a cuppa at the end. We
  hope that a Wonderlings session will awaken a sense of curiosity and awe 
 in everyone\, whatever their age and stage!
GEO:-1.254895;51.750286
LOCATION:Christ Church Cathedral
URL:https://www.achurchnearyou.com/church/76/service-and-events/events/126
 8978/
END:VEVENT
BEGIN:VEVENT
SUMMARY:Wonderlings - Cathedral Children's Group
DTSTART;TZID=Europe/London:20260202T100000
DTEND;TZID=Europe/London:20260202T120000
DTSTAMP:20260421T195301Z
UID:12689782026-02-02 10:00:00+00:00achurchnearyou
CATEGORIES:
DESCRIPTION:You're never too young to wonder! Wonderlings is our free chil
 dren's group pre-school children from birth and their adults\, which takes
  place on Mondays during school term-time from 10am-12pm in the Priory Roo
 m (just off the cloisters). Expect gathering time with free play\, circle 
 time with Bible-themed activities and interactive music making\, story tim
 e with a thought for the day\, and refreshments and a cuppa at the end. We
  hope that a Wonderlings session will awaken a sense of curiosity and awe 
 in everyone\, whatever their age and stage!
GEO:-1.254895;51.750286
LOCATION:Christ Church Cathedral
URL:https://www.achurchnearyou.com/church/76/service-and-events/events/126
 8978/
END:VEVENT
BEGIN:VEVENT
SUMMARY:Wonderlings - Cathedral Children's Group
DTSTART;TZID=Europe/London:20260209T100000
DTEND;TZID=Europe/London:20260209T120000
DTSTAMP:20260421T195301Z
UID:12689782026-02-09 10:00:00+00:00achurchnearyou
CATEGORIES:
DESCRIPTION:You're never too young to wonder! Wonderlings is our free chil
 dren's group pre-school children from birth and their adults\, which takes
  place on Mondays during school term-time from 10am-12pm in the Priory Roo
 m (just off the cloisters). Expect gathering time with free play\, circle 
 time with Bible-themed activities and interactive music making\, story tim
 e with a thought for the day\, and refreshments and a cuppa at the end. We
  hope that a Wonderlings session will awaken a sense of curiosity and awe 
 in everyone\, whatever their age and stage!
GEO:-1.254895;51.750286
LOCATION:Christ Church Cathedral
URL:https://www.achurchnearyou.com/church/76/service-and-events/events/126
 8978/
END:VEVENT
BEGIN:VEVENT
SUMMARY:Wonderlings - Cathedral Children's Group
DTSTART;TZID=Europe/London:20260223T100000
DTEND;TZID=Europe/London:20260223T120000
DTSTAMP:20260421T195301Z
UID:12689782026-02-23 10:00:00+00:00achurchnearyou
CATEGORIES:
DESCRIPTION:You're never too young to wonder! Wonderlings is our free chil
 dren's group pre-school children from birth and their adults\, which takes
  place on Mondays during school term-time from 10am-12pm in the Priory Roo
 m (just off the cloisters). Expect gathering time with free play\, circle 
 time with Bible-themed activities and interactive music making\, story tim
 e with a thought for the day\, and refreshments and a cuppa at the end. We
  hope that a Wonderlings session will awaken a sense of curiosity and awe 
 in everyone\, whatever their age and stage!
GEO:-1.254895;51.750286
LOCATION:Christ Church Cathedral
URL:https://www.achurchnearyou.com/church/76/service-and-events/events/126
 8978/
END:VEVENT
BEGIN:VEVENT
SUMMARY:Wonderlings - Cathedral Children's Group
DTSTART;TZID=Europe/London:20260302T100000
DTEND;TZID=Europe/London:20260302T120000
DTSTAMP:20260421T195301Z
UID:12689782026-03-02 10:00:00+00:00achurchnearyou
CATEGORIES:
DESCRIPTION:You're never too young to wonder! Wonderlings is our free chil
 dren's group pre-school children from birth and their adults\, which takes
  place on Mondays during school term-time from 10am-12pm in the Priory Roo
 m (just off the cloisters). Expect gathering time with free play\, circle 
 time with Bible-themed activities and interactive music making\, story tim
 e with a thought for the day\, and refreshments and a cuppa at the end. We
  hope that a Wonderlings session will awaken a sense of curiosity and awe 
 in everyone\, whatever their age and stage!
GEO:-1.254895;51.750286
LOCATION:Christ Church Cathedral
URL:https://www.achurchnearyou.com/church/76/service-and-events/events/126
 8978/
END:VEVENT
BEGIN:VEVENT
SUMMARY:Wonderlings - Cathedral Children's Group
DTSTART;TZID=Europe/London:20260309T100000
DTEND;TZID=Europe/London:20260309T120000
DTSTAMP:20260421T195301Z
UID:12689782026-03-09 10:00:00+00:00achurchnearyou
CATEGORIES:
DESCRIPTION:You're never too young to wonder! Wonderlings is our free chil
 dren's group pre-school children from birth and their adults\, which takes
  place on Mondays during school term-time from 10am-12pm in the Priory Roo
 m (just off the cloisters). Expect gathering time with free play\, circle 
 time with Bible-themed activities and interactive music making\, story tim
 e with a thought for the day\, and refreshments and a cuppa at the end. We
  hope that a Wonderlings session will awaken a sense of curiosity and awe 
 in everyone\, whatever their age and stage!
GEO:-1.254895;51.750286
LOCATION:Christ Church Cathedral
URL:https://www.achurchnearyou.com/church/76/service-and-events/events/126
 8978/
END:VEVENT
BEGIN:VEVENT
SUMMARY:Wonderlings - Cathedral Children's Group
DTSTART;TZID=Europe/London:20260316T100000
DTEND;TZID=Europe/London:20260316T120000
DTSTAMP:20260421T195301Z
UID:12689782026-03-16 10:00:00+00:00achurchnearyou
CATEGORIES:
DESCRIPTION:You're never too young to wonder! Wonderlings is our free chil
 dren's group pre-school children from birth and their adults\, which takes
  place on Mondays during school term-time from 10am-12pm in the Priory Roo
 m (just off the cloisters). Expect gathering time with free play\, circle 
 time with Bible-themed activities and interactive music making\, story tim
 e with a thought for the day\, and refreshments and a cuppa at the end. We
  hope that a Wonderlings session will awaken a sense of curiosity and awe 
 in everyone\, whatever their age and stage!
GEO:-1.254895;51.750286
LOCATION:Christ Church Cathedral
URL:https://www.achurchnearyou.com/church/76/service-and-events/events/126
 8978/
END:VEVENT
BEGIN:VEVENT
SUMMARY:Wonderlings - Cathedral Children's Group
DTSTART;TZID=Europe/London:20260323T100000
DTEND;TZID=Europe/London:20260323T120000
DTSTAMP:20260421T195301Z
UID:12689782026-03-23 10:00:00+00:00achurchnearyou
CATEGORIES:
DESCRIPTION:You're never too young to wonder! Wonderlings is our free chil
 dren's group pre-school children from birth and their adults\, which takes
  place on Mondays during school term-time from 10am-12pm in the Priory Roo
 m (just off the cloisters). Expect gathering time with free play\, circle 
 time with Bible-themed activities and interactive music making\, story tim
 e with a thought for the day\, and refreshments and a cuppa at the end. We
  hope that a Wonderlings session will awaken a sense of curiosity and awe 
 in everyone\, whatever their age and stage!
GEO:-1.254895;51.750286
LOCATION:Christ Church Cathedral
URL:https://www.achurchnearyou.com/church/76/service-and-events/events/126
 8978/
END:VEVENT
BEGIN:VEVENT
SUMMARY:Wonderlings - Cathedral Children's Group
DTSTART;TZID=Europe/London:20260420T100000
DTEND;TZID=Europe/London:20260420T120000
DTSTAMP:20260421T195301Z
UID:12689782026-04-20 10:00:00+01:00achurchnearyou
CATEGORIES:
DESCRIPTION:You're never too young to wonder! Wonderlings is our free chil
 dren's group pre-school children from birth and their adults\, which takes
  place on Mondays during school term-time from 10am-12pm in the Priory Roo
 m (just off the cloisters). Expect gathering time with free play\, circle 
 time with Bible-themed activities and interactive music making\, story tim
 e with a thought for the day\, and refreshments and a cuppa at the end. We
  hope that a Wonderlings session will awaken a sense of curiosity and awe 
 in everyone\, whatever their age and stage!
GEO:-1.254895;51.750286
LOCATION:Christ Church Cathedral
URL:https://www.achurchnearyou.com/church/76/service-and-events/events/126
 8978/
END:VEVENT
BEGIN:VEVENT
SUMMARY:Wonderlings - Cathedral Children's Group
DTSTART;TZID=Europe/London:20260427T100000
DTEND;TZID=Europe/London:20260427T120000
DTSTAMP:20260421T195301Z
UID:12689782026-04-27 10:00:00+01:00achurchnearyou
CATEGORIES:
DESCRIPTION:You're never too young to wonder! Wonderlings is our free chil
 dren's group pre-school children from birth and their adults\, which takes
  place on Mondays during school term-time from 10am-12pm in the Priory Roo
 m (just off the cloisters). Expect gathering time with free play\, circle 
 time with Bible-themed activities and interactive music making\, story tim
 e with a thought for the day\, and refreshments and a cuppa at the end. We
  hope that a Wonderlings session will awaken a sense of curiosity and awe 
 in everyone\, whatever their age and stage!
GEO:-1.254895;51.750286
LOCATION:Christ Church Cathedral
URL:https://www.achurchnearyou.com/church/76/service-and-events/events/126
 8978/
END:VEVENT
BEGIN:VEVENT
SUMMARY:Wonderlings - Cathedral Children's Group
DTSTART;TZID=Europe/London:20260504T100000
DTEND;TZID=Europe/London:20260504T120000
DTSTAMP:20260421T195301Z
UID:12689782026-05-04 10:00:00+01:00achurchnearyou
CATEGORIES:
DESCRIPTION:You're never too young to wonder! Wonderlings is our free chil
 dren's group pre-school children from birth and their adults\, which takes
  place on Mondays during school term-time from 10am-12pm in the Priory Roo
 m (just off the cloisters). Expect gathering time with free play\, circle 
 time with Bible-themed activities and interactive music making\, story tim
 e with a thought for the day\, and refreshments and a cuppa at the end. We
  hope that a Wonderlings session will awaken a sense of curiosity and awe 
 in everyone\, whatever their age and stage!
GEO:-1.254895;51.750286
LOCATION:Christ Church Cathedral
URL:https://www.achurchnearyou.com/church/76/service-and-events/events/126
 8978/
END:VEVENT
BEGIN:VEVENT
SUMMARY:Wonderlings - Cathedral Children's Group
DTSTART;TZID=Europe/London:20260511T100000
DTEND;TZID=Europe/London:20260511T120000
DTSTAMP:20260421T195301Z
UID:12689782026-05-11 10:00:00+01:00achurchnearyou
CATEGORIES:
DESCRIPTION:You're never too young to wonder! Wonderlings is our free chil
 dren's group pre-school children from birth and their adults\, which takes
  place on Mondays during school term-time from 10am-12pm in the Priory Roo
 m (just off the cloisters). Expect gathering time with free play\, circle 
 time with Bible-themed activities and interactive music making\, story tim
 e with a thought for the day\, and refreshments and a cuppa at the end. We
  hope that a Wonderlings session will awaken a sense of curiosity and awe 
 in everyone\, whatever their age and stage!
GEO:-1.254895;51.750286
LOCATION:Christ Church Cathedral
URL:https://www.achurchnearyou.com/church/76/service-and-events/events/126
 8978/
END:VEVENT
BEGIN:VEVENT
SUMMARY:Wonderlings - Cathedral Children's Group
DTSTART;TZID=Europe/London:20260518T100000
DTEND;TZID=Europe/London:20260518T120000
DTSTAMP:20260421T195301Z
UID:12689782026-05-18 10:00:00+01:00achurchnearyou
CATEGORIES:
DESCRIPTION:You're never too young to wonder! Wonderlings is our free chil
 dren's group pre-school children from birth and their adults\, which takes
  place on Mondays during school term-time from 10am-12pm in the Priory Roo
 m (just off the cloisters). Expect gathering time with free play\, circle 
 time with Bible-themed activities and interactive music making\, story tim
 e with a thought for the day\, and refreshments and a cuppa at the end. We
  hope that a Wonderlings session will awaken a sense of curiosity and awe 
 in everyone\, whatever their age and stage!
GEO:-1.254895;51.750286
LOCATION:Christ Church Cathedral
URL:https://www.achurchnearyou.com/church/76/service-and-events/events/126
 8978/
END:VEVENT
BEGIN:VEVENT
SUMMARY:Wonderlings - Cathedral Children's Group
DTSTART;TZID=Europe/London:20260601T100000
DTEND;TZID=Europe/London:20260601T120000
DTSTAMP:20260421T195301Z
UID:12689782026-06-01 10:00:00+01:00achurchnearyou
CATEGORIES:
DESCRIPTION:You're never too young to wonder! Wonderlings is our free chil
 dren's group pre-school children from birth and their adults\, which takes
  place on Mondays during school term-time from 10am-12pm in the Priory Roo
 m (just off the cloisters). Expect gathering time with free play\, circle 
 time with Bible-themed activities and interactive music making\, story tim
 e with a thought for the day\, and refreshments and a cuppa at the end. We
  hope that a Wonderlings session will awaken a sense of curiosity and awe 
 in everyone\, whatever their age and stage!
GEO:-1.254895;51.750286
LOCATION:Christ Church Cathedral
URL:https://www.achurchnearyou.com/church/76/service-and-events/events/126
 8978/
END:VEVENT
BEGIN:VEVENT
SUMMARY:Wonderlings - Cathedral Children's Group
DTSTART;TZID=Europe/London:20260608T100000
DTEND;TZID=Europe/London:20260608T120000
DTSTAMP:20260421T195301Z
UID:12689782026-06-08 10:00:00+01:00achurchnearyou
CATEGORIES:
DESCRIPTION:You're never too young to wonder! Wonderlings is our free chil
 dren's group pre-school children from birth and their adults\, which takes
  place on Mondays during school term-time from 10am-12pm in the Priory Roo
 m (just off the cloisters). Expect gathering time with free play\, circle 
 time with Bible-themed activities and interactive music making\, story tim
 e with a thought for the day\, and refreshments and a cuppa at the end. We
  hope that a Wonderlings session will awaken a sense of curiosity and awe 
 in everyone\, whatever their age and stage!
GEO:-1.254895;51.750286
LOCATION:Christ Church Cathedral
URL:https://www.achurchnearyou.com/church/76/service-and-events/events/126
 8978/
END:VEVENT
BEGIN:VEVENT
SUMMARY:Wonderlings - Cathedral Children's Group
DTSTART;TZID=Europe/London:20260615T100000
DTEND;TZID=Europe/London:20260615T120000
DTSTAMP:20260421T195301Z
UID:12689782026-06-15 10:00:00+01:00achurchnearyou
CATEGORIES:
DESCRIPTION:You're never too young to wonder! Wonderlings is our free chil
 dren's group pre-school children from birth and their adults\, which takes
  place on Mondays during school term-time from 10am-12pm in the Priory Roo
 m (just off the cloisters). Expect gathering time with free play\, circle 
 time with Bible-themed activities and interactive music making\, story tim
 e with a thought for the day\, and refreshments and a cuppa at the end. We
  hope that a Wonderlings session will awaken a sense of curiosity and awe 
 in everyone\, whatever their age and stage!
GEO:-1.254895;51.750286
LOCATION:Christ Church Cathedral
URL:https://www.achurchnearyou.com/church/76/service-and-events/events/126
 8978/
END:VEVENT
BEGIN:VEVENT
SUMMARY:Wonderlings - Cathedral Children's Group
DTSTART;TZID=Europe/London:20260622T100000
DTEND;TZID=Europe/London:20260622T120000
DTSTAMP:20260421T195301Z
UID:12689782026-06-22 10:00:00+01:00achurchnearyou
CATEGORIES:
DESCRIPTION:You're never too young to wonder! Wonderlings is our free chil
 dren's group pre-school children from birth and their adults\, which takes
  place on Mondays during school term-time from 10am-12pm in the Priory Roo
 m (just off the cloisters). Expect gathering time with free play\, circle 
 time with Bible-themed activities and interactive music making\, story tim
 e with a thought for the day\, and refreshments and a cuppa at the end. We
  hope that a Wonderlings session will awaken a sense of curiosity and awe 
 in everyone\, whatever their age and stage!
GEO:-1.254895;51.750286
LOCATION:Christ Church Cathedral
URL:https://www.achurchnearyou.com/church/76/service-and-events/events/126
 8978/
END:VEVENT
BEGIN:VEVENT
SUMMARY:Wonderlings - Cathedral Children's Group
DTSTART;TZID=Europe/London:20260629T100000
DTEND;TZID=Europe/London:20260629T120000
DTSTAMP:20260421T195301Z
UID:12689782026-06-29 10:00:00+01:00achurchnearyou
CATEGORIES:
DESCRIPTION:You're never too young to wonder! Wonderlings is our free chil
 dren's group pre-school children from birth and their adults\, which takes
  place on Mondays during school term-time from 10am-12pm in the Priory Roo
 m (just off the cloisters). Expect gathering time with free play\, circle 
 time with Bible-themed activities and interactive music making\, story tim
 e with a thought for the day\, and refreshments and a cuppa at the end. We
  hope that a Wonderlings session will awaken a sense of curiosity and awe 
 in everyone\, whatever their age and stage!
GEO:-1.254895;51.750286
LOCATION:Christ Church Cathedral
URL:https://www.achurchnearyou.com/church/76/service-and-events/events/126
 8978/
END:VEVENT
BEGIN:VEVENT
SUMMARY:Wonderlings - Cathedral Children's Group
DTSTART;TZID=Europe/London:20260706T100000
DTEND;TZID=Europe/London:20260706T120000
DTSTAMP:20260421T195301Z
UID:12689782026-07-06 10:00:00+01:00achurchnearyou
CATEGORIES:
DESCRIPTION:You're never too young to wonder! Wonderlings is our free chil
 dren's group pre-school children from birth and their adults\, which takes
  place on Mondays during school term-time from 10am-12pm in the Priory Roo
 m (just off the cloisters). Expect gathering time with free play\, circle 
 time with Bible-themed activities and interactive music making\, story tim
 e with a thought for the day\, and refreshments and a cuppa at the end. We
  hope that a Wonderlings session will awaken a sense of curiosity and awe 
 in everyone\, whatever their age and stage!
GEO:-1.254895;51.750286
LOCATION:Christ Church Cathedral
URL:https://www.achurchnearyou.com/church/76/service-and-events/events/126
 8978/
END:VEVENT
BEGIN:VEVENT
SUMMARY:Wonderlings - Cathedral Children's Group
DTSTART;TZID=Europe/London:20260713T100000
DTEND;TZID=Europe/London:20260713T120000
DTSTAMP:20260421T195301Z
UID:12689782026-07-13 10:00:00+01:00achurchnearyou
CATEGORIES:
DESCRIPTION:You're never too young to wonder! Wonderlings is our free chil
 dren's group pre-school children from birth and their adults\, which takes
  place on Mondays during school term-time from 10am-12pm in the Priory Roo
 m (just off the cloisters). Expect gathering time with free play\, circle 
 time with Bible-themed activities and interactive music making\, story tim
 e with a thought for the day\, and refreshments and a cuppa at the end. We
  hope that a Wonderlings session will awaken a sense of curiosity and awe 
 in everyone\, whatever their age and stage!
GEO:-1.254895;51.750286
LOCATION:Christ Church Cathedral
URL:https://www.achurchnearyou.com/church/76/service-and-events/events/126
 8978/
END:VEVENT
END:VCALENDAR
