BEGIN:VCALENDAR
VERSION:2.0
PRODID:-//achurchnearyou.com//eventfeed//EN
CALSCALE:GREGORIAN
METHOD:PUBLISH
X-WR-TIMEZONE:UTC
BEGIN:VEVENT
SUMMARY:The Liturgy of Maundy Thursday
DTSTART:20260402T183500Z
DTEND:20260402T193500Z
DTSTAMP:20260421T232903Z
UID:12975232026-04-02 18:35:00+00:00achurchnearyou
CATEGORIES:
DESCRIPTION:On Maundy Thursday\, we remember the Last Supper\, Jesus’ in
 stitution of the Holy Communion\, and begin the Sacred Triduum\, the three
 -day cycle of worship which leads to Easter. Following Jesus’ example du
 ring the meal\, the Dean washes the feet of some members of the congregati
 on. After communion\, the altars and sanctuary are stripped of their hangi
 ngs and the choir and clergy leave in disorder\, reflecting the scattering
  of the disciples and Judas’ betrayal. The service ends in darkness\, an
 d we leave in silence - or remain for The Watch.
GEO:-1.254895;51.750286
LOCATION:Christ Church Cathedral
URL:https://www.achurchnearyou.com/church/76/service-and-events/events/129
 7523/
END:VEVENT
END:VCALENDAR
