BEGIN:VCALENDAR
VERSION:2.0
PRODID:-//achurchnearyou.com//eventfeed//EN
CALSCALE:GREGORIAN
METHOD:PUBLISH
X-WR-TIMEZONE:UTC
BEGIN:VEVENT
SUMMARY:The Watch
DTSTART:20260402T200000Z
DTEND:20260402T225900Z
DTSTAMP:20260421T232906Z
UID:12975362026-04-02 20:00:00+00:00achurchnearyou
CATEGORIES:
DESCRIPTION:Recalling Jesus’ pleas that the disciples watch with him thr
 ough the night\, we keep a silent vigil in the Lady Chapel following the L
 iturgy of Maundy Thursday until midnight. The Cathedral will be open until
  midnight - simply ask at the Lodge on St Aldates and you will be admitted
 .
GEO:-1.254895;51.750286
LOCATION:Christ Church Cathedral
URL:https://www.achurchnearyou.com/church/76/service-and-events/events/129
 7536/
END:VEVENT
END:VCALENDAR
