BEGIN:VCALENDAR
VERSION:2.0
PRODID:-//achurchnearyou.com//eventfeed//EN
CALSCALE:GREGORIAN
METHOD:PUBLISH
X-WR-TIMEZONE:UTC
BEGIN:VEVENT
SUMMARY:Choral Matins for Easter Day
DTSTART:20260405T083500Z
DTEND:20260405T093500Z
DTSTAMP:20260421T232912Z
UID:12976142026-04-05 08:35:00+00:00achurchnearyou
CATEGORIES:
DESCRIPTION:We begin our celebrations on Easter Day with a service of Chor
 al Matins\, sung by the Cathedral Choir. Our sermon is preached by The Dea
 n\, The Very Revd Professor Sarah Foot.
GEO:-1.254895;51.750286
LOCATION:Christ Church Cathedral
URL:https://www.achurchnearyou.com/church/76/service-and-events/events/129
 7614/
END:VEVENT
END:VCALENDAR
