BEGIN:VCALENDAR
VERSION:2.0
PRODID:-//achurchnearyou.com//eventfeed//EN
CALSCALE:GREGORIAN
METHOD:PUBLISH
X-WR-TIMEZONE:UTC
BEGIN:VEVENT
SUMMARY:VE Day Anniversary Service
DTSTART:20250508T130000Z
DTEND:20250508T140000Z
DTSTAMP:20260424T234633Z
UID:11949642025-05-08 13:00:00+00:00achurchnearyou
CATEGORIES:
DESCRIPTION:You are warmly invited to take part in a short service in chur
 ch to commemorate the 80th Anniversary of Victory in Europe. \n\nOur serv
 ice will include hymns\, readings\, a personal reflection\, and prayers. A
 ll welcome.
GEO:-0.167014;51.247397
LOCATION:Holy Trinity\, Redhill
URL:https://www.achurchnearyou.com/church/760/service-and-events/events/11
 94964/
END:VEVENT
END:VCALENDAR
