BEGIN:VCALENDAR
VERSION:2.0
PRODID:-//achurchnearyou.com//eventfeed//EN
CALSCALE:GREGORIAN
METHOD:PUBLISH
X-WR-TIMEZONE:UTC
BEGIN:VEVENT
SUMMARY:Easter Communion Service
DTSTART:20250420T073000Z
DTEND:20250420T081500Z
DTSTAMP:20260425T010017Z
UID:11616482025-04-20 07:30:00+00:00achurchnearyou
CATEGORIES:
DESCRIPTION:8.30am Easter Communion service
GEO:-0.319365;51.75261
LOCATION:St Paul's\, Fleetville
URL:https://www.achurchnearyou.com/church/7601/service-and-events/events/1
 161648/
END:VEVENT
END:VCALENDAR
