BEGIN:VCALENDAR
VERSION:2.0
PRODID:-//achurchnearyou.com//eventfeed//EN
CALSCALE:GREGORIAN
METHOD:PUBLISH
X-WR-TIMEZONE:UTC
BEGIN:VEVENT
SUMMARY:A Quieter Christmas
DTSTART:20251217T100000Z
DTEND:20251217T110000Z
DTSTAMP:20260424T025203Z
UID:12494532025-12-17 10:00:00+00:00achurchnearyou
CATEGORIES:
DESCRIPTION:A reflective service away from the bustle of Christmas
GEO:-0.319365;51.75261
LOCATION:St Paul's\, Fleetville
URL:https://www.stpauls-stalbans.org/
END:VEVENT
END:VCALENDAR
