BEGIN:VCALENDAR
VERSION:2.0
PRODID:-//achurchnearyou.com//eventfeed//EN
CALSCALE:GREGORIAN
METHOD:PUBLISH
X-WR-TIMEZONE:UTC
BEGIN:VEVENT
SUMMARY:The Spark @ St Lawrence's
DTSTART;TZID=Europe/London:20260426T153000
DTEND;TZID=Europe/London:20260426T170000
DTSTAMP:20260419T150014Z
UID:10237602026-04-26 15:30:00+01:00achurchnearyou
CATEGORIES:
DESCRIPTION:Whether you've never been to church before\, or are an old pro
 \, you are so welcome at our monthly informal afternoon service. We meet f
 or snacks and drinks at 3.30pm\, with the service starting at 4pm\, and we
  would love to see you there! (Spark is not happening in December).
GEO:-0.416936;51.707776
LOCATION:St Lawrence
URL:https://www.achurchnearyou.com/church/7607/service-and-events/events/1
 023760/
END:VEVENT
BEGIN:VEVENT
SUMMARY:The Spark @ St Lawrence's
DTSTART;TZID=Europe/London:20260531T153000
DTEND;TZID=Europe/London:20260531T170000
DTSTAMP:20260419T150014Z
UID:10237602026-05-31 15:30:00+01:00achurchnearyou
CATEGORIES:
DESCRIPTION:Whether you've never been to church before\, or are an old pro
 \, you are so welcome at our monthly informal afternoon service. We meet f
 or snacks and drinks at 3.30pm\, with the service starting at 4pm\, and we
  would love to see you there! (Spark is not happening in December).
GEO:-0.416936;51.707776
LOCATION:St Lawrence
URL:https://www.achurchnearyou.com/church/7607/service-and-events/events/1
 023760/
END:VEVENT
BEGIN:VEVENT
SUMMARY:The Spark @ St Lawrence's
DTSTART;TZID=Europe/London:20260628T153000
DTEND;TZID=Europe/London:20260628T170000
DTSTAMP:20260419T150014Z
UID:10237602026-06-28 15:30:00+01:00achurchnearyou
CATEGORIES:
DESCRIPTION:Whether you've never been to church before\, or are an old pro
 \, you are so welcome at our monthly informal afternoon service. We meet f
 or snacks and drinks at 3.30pm\, with the service starting at 4pm\, and we
  would love to see you there! (Spark is not happening in December).
GEO:-0.416936;51.707776
LOCATION:St Lawrence
URL:https://www.achurchnearyou.com/church/7607/service-and-events/events/1
 023760/
END:VEVENT
BEGIN:VEVENT
SUMMARY:The Spark @ St Lawrence's
DTSTART;TZID=Europe/London:20260726T153000
DTEND;TZID=Europe/London:20260726T170000
DTSTAMP:20260419T150014Z
UID:10237602026-07-26 15:30:00+01:00achurchnearyou
CATEGORIES:
DESCRIPTION:Whether you've never been to church before\, or are an old pro
 \, you are so welcome at our monthly informal afternoon service. We meet f
 or snacks and drinks at 3.30pm\, with the service starting at 4pm\, and we
  would love to see you there! (Spark is not happening in December).
GEO:-0.416936;51.707776
LOCATION:St Lawrence
URL:https://www.achurchnearyou.com/church/7607/service-and-events/events/1
 023760/
END:VEVENT
BEGIN:VEVENT
SUMMARY:The Spark @ St Lawrence's
DTSTART;TZID=Europe/London:20260830T153000
DTEND;TZID=Europe/London:20260830T170000
DTSTAMP:20260419T150014Z
UID:10237602026-08-30 15:30:00+01:00achurchnearyou
CATEGORIES:
DESCRIPTION:Whether you've never been to church before\, or are an old pro
 \, you are so welcome at our monthly informal afternoon service. We meet f
 or snacks and drinks at 3.30pm\, with the service starting at 4pm\, and we
  would love to see you there! (Spark is not happening in December).
GEO:-0.416936;51.707776
LOCATION:St Lawrence
URL:https://www.achurchnearyou.com/church/7607/service-and-events/events/1
 023760/
END:VEVENT
BEGIN:VEVENT
SUMMARY:The Spark @ St Lawrence's
DTSTART;TZID=Europe/London:20260927T153000
DTEND;TZID=Europe/London:20260927T170000
DTSTAMP:20260419T150014Z
UID:10237602026-09-27 15:30:00+01:00achurchnearyou
CATEGORIES:
DESCRIPTION:Whether you've never been to church before\, or are an old pro
 \, you are so welcome at our monthly informal afternoon service. We meet f
 or snacks and drinks at 3.30pm\, with the service starting at 4pm\, and we
  would love to see you there! (Spark is not happening in December).
GEO:-0.416936;51.707776
LOCATION:St Lawrence
URL:https://www.achurchnearyou.com/church/7607/service-and-events/events/1
 023760/
END:VEVENT
BEGIN:VEVENT
SUMMARY:The Spark @ St Lawrence's
DTSTART;TZID=Europe/London:20261025T153000
DTEND;TZID=Europe/London:20261025T170000
DTSTAMP:20260419T150014Z
UID:10237602026-10-25 15:30:00+00:00achurchnearyou
CATEGORIES:
DESCRIPTION:Whether you've never been to church before\, or are an old pro
 \, you are so welcome at our monthly informal afternoon service. We meet f
 or snacks and drinks at 3.30pm\, with the service starting at 4pm\, and we
  would love to see you there! (Spark is not happening in December).
GEO:-0.416936;51.707776
LOCATION:St Lawrence
URL:https://www.achurchnearyou.com/church/7607/service-and-events/events/1
 023760/
END:VEVENT
BEGIN:VEVENT
SUMMARY:The Spark @ St Lawrence's
DTSTART;TZID=Europe/London:20261129T153000
DTEND;TZID=Europe/London:20261129T170000
DTSTAMP:20260419T150014Z
UID:10237602026-11-29 15:30:00+00:00achurchnearyou
CATEGORIES:
DESCRIPTION:Whether you've never been to church before\, or are an old pro
 \, you are so welcome at our monthly informal afternoon service. We meet f
 or snacks and drinks at 3.30pm\, with the service starting at 4pm\, and we
  would love to see you there! (Spark is not happening in December).
GEO:-0.416936;51.707776
LOCATION:St Lawrence
URL:https://www.achurchnearyou.com/church/7607/service-and-events/events/1
 023760/
END:VEVENT
BEGIN:VEVENT
SUMMARY:The Spark @ St Lawrence's
DTSTART;TZID=Europe/London:20261227T153000
DTEND;TZID=Europe/London:20261227T170000
DTSTAMP:20260419T150014Z
UID:10237602026-12-27 15:30:00+00:00achurchnearyou
CATEGORIES:
DESCRIPTION:Whether you've never been to church before\, or are an old pro
 \, you are so welcome at our monthly informal afternoon service. We meet f
 or snacks and drinks at 3.30pm\, with the service starting at 4pm\, and we
  would love to see you there! (Spark is not happening in December).
GEO:-0.416936;51.707776
LOCATION:St Lawrence
URL:https://www.achurchnearyou.com/church/7607/service-and-events/events/1
 023760/
END:VEVENT
BEGIN:VEVENT
SUMMARY:The Spark @ St Lawrence's
DTSTART;TZID=Europe/London:20270131T153000
DTEND;TZID=Europe/London:20270131T170000
DTSTAMP:20260419T150014Z
UID:10237602027-01-31 15:30:00+00:00achurchnearyou
CATEGORIES:
DESCRIPTION:Whether you've never been to church before\, or are an old pro
 \, you are so welcome at our monthly informal afternoon service. We meet f
 or snacks and drinks at 3.30pm\, with the service starting at 4pm\, and we
  would love to see you there! (Spark is not happening in December).
GEO:-0.416936;51.707776
LOCATION:St Lawrence
URL:https://www.achurchnearyou.com/church/7607/service-and-events/events/1
 023760/
END:VEVENT
BEGIN:VEVENT
SUMMARY:The Spark @ St Lawrence's
DTSTART;TZID=Europe/London:20270228T153000
DTEND;TZID=Europe/London:20270228T170000
DTSTAMP:20260419T150014Z
UID:10237602027-02-28 15:30:00+00:00achurchnearyou
CATEGORIES:
DESCRIPTION:Whether you've never been to church before\, or are an old pro
 \, you are so welcome at our monthly informal afternoon service. We meet f
 or snacks and drinks at 3.30pm\, with the service starting at 4pm\, and we
  would love to see you there! (Spark is not happening in December).
GEO:-0.416936;51.707776
LOCATION:St Lawrence
URL:https://www.achurchnearyou.com/church/7607/service-and-events/events/1
 023760/
END:VEVENT
BEGIN:VEVENT
SUMMARY:The Spark @ St Lawrence's
DTSTART;TZID=Europe/London:20270328T153000
DTEND;TZID=Europe/London:20270328T170000
DTSTAMP:20260419T150014Z
UID:10237602027-03-28 15:30:00+01:00achurchnearyou
CATEGORIES:
DESCRIPTION:Whether you've never been to church before\, or are an old pro
 \, you are so welcome at our monthly informal afternoon service. We meet f
 or snacks and drinks at 3.30pm\, with the service starting at 4pm\, and we
  would love to see you there! (Spark is not happening in December).
GEO:-0.416936;51.707776
LOCATION:St Lawrence
URL:https://www.achurchnearyou.com/church/7607/service-and-events/events/1
 023760/
END:VEVENT
END:VCALENDAR
