BEGIN:VCALENDAR
VERSION:2.0
PRODID:-//achurchnearyou.com//eventfeed//EN
CALSCALE:GREGORIAN
METHOD:PUBLISH
X-WR-TIMEZONE:UTC
BEGIN:VEVENT
SUMMARY:Christmas Lights Switch On
DTSTART:20251204T180000Z
DTEND:20251204T190000Z
DTSTAMP:20260420T014510Z
UID:12274642025-12-04 18:00:00+00:00achurchnearyou
CATEGORIES:
DESCRIPTION:All are welcome to watch the Christmas lights being switched o
 n. Hot chocolate will be available!
GEO:-0.416936;51.707776
LOCATION:St Lawrence
URL:https://www.achurchnearyou.com/church/7607/service-and-events/events/1
 227464/
END:VEVENT
END:VCALENDAR
