BEGIN:VCALENDAR
VERSION:2.0
PRODID:-//achurchnearyou.com//eventfeed//EN
CALSCALE:GREGORIAN
METHOD:PUBLISH
X-WR-TIMEZONE:UTC
BEGIN:VEVENT
SUMMARY:Crisis at Christmas Lunch
DTSTART:20251213T120000Z
DTEND:20251213T133000Z
DTSTAMP:20260420T014505Z
UID:12624032025-12-13 12:00:00+00:00achurchnearyou
CATEGORIES:
DESCRIPTION:Join us for a festive lunch in aid of Crisis at Christmas. Enj
 oy comforting soup and bread\, a selection of cheese\, mince pies\, and fr
 esh fruit. Lunch is free for everyone\, and any donations to support Crisi
 s at Christmas are warmly welcomed. All are welcome.
LOCATION:Methodist Church Hall
URL:https://www.achurchnearyou.com/church/7607/service-and-events/events/1
 262403/
END:VEVENT
END:VCALENDAR
