BEGIN:VCALENDAR
VERSION:2.0
PRODID:-//achurchnearyou.com//eventfeed//EN
CALSCALE:GREGORIAN
METHOD:PUBLISH
X-WR-TIMEZONE:UTC
BEGIN:VEVENT
SUMMARY:Act of Remembrance
DTSTART:20251109T103000Z
DTEND:20251109T113000Z
DTSTAMP:20260419T223629Z
UID:5083392025-11-09 10:30:00+00:00achurchnearyou
CATEGORIES:
DESCRIPTION:Join with the local community to Remember
LOCATION:War Memorial
URL:https://www.achurchnearyou.com/church/7609/service-and-events/events/5
 08339/
END:VEVENT
END:VCALENDAR
