BEGIN:VCALENDAR
VERSION:2.0
PRODID:-//achurchnearyou.com//eventfeed//EN
CALSCALE:GREGORIAN
METHOD:PUBLISH
X-WR-TIMEZONE:UTC
BEGIN:VEVENT
SUMMARY:Carol Service
DTSTART:20251221T173000Z
DTEND:20251221T183000Z
DTSTAMP:20260419T190026Z
UID:894692025-12-21 17:30:00+00:00achurchnearyou
CATEGORIES:
DESCRIPTION:Sing Carols by Candlelight with Mince pies and mulled wine on 
 arrival.\nGuidelines for attending Services and Events in person\nFor ever
 yone to feel welcome :\n Stay away if you are feeling unwell\n  R
 espect others personal space.\n • Ensure children are supervised at all 
 times
GEO:-0.388126;51.695734
LOCATION:All Saints
URL:https://www.achurchnearyou.com/church/7609/service-and-events/events/8
 9469/
END:VEVENT
END:VCALENDAR
