BEGIN:VCALENDAR
VERSION:2.0
PRODID:-//achurchnearyou.com//eventfeed//EN
CALSCALE:GREGORIAN
METHOD:PUBLISH
X-WR-TIMEZONE:UTC
BEGIN:VEVENT
SUMMARY:Draw Near to God
DTSTART;TZID=Europe/London:20260224T140000
DTEND;TZID=Europe/London:20260224T150000
DTSTAMP:20260421T082815Z
UID:13034862026-02-24 14:00:00+00:00achurchnearyou
CATEGORIES:
DESCRIPTION:"Draw near to God\, and He will draw near to you" James 4: 8\n
 A group meeting in church each Tuesday during Lent\, exploring the themes 
 of drawing near to God through prayer\, scripture\, the Eucharist\, servic
 e and invitation.
GEO:-0.17215;51.240732
LOCATION:St. Matthew\, Redhill
URL:https://www.achurchnearyou.com/church/762/service-and-events/events/13
 03486/
END:VEVENT
BEGIN:VEVENT
SUMMARY:Draw Near to God
DTSTART;TZID=Europe/London:20260303T140000
DTEND;TZID=Europe/London:20260303T150000
DTSTAMP:20260421T082815Z
UID:13034862026-03-03 14:00:00+00:00achurchnearyou
CATEGORIES:
DESCRIPTION:"Draw near to God\, and He will draw near to you" James 4: 8\n
 A group meeting in church each Tuesday during Lent\, exploring the themes 
 of drawing near to God through prayer\, scripture\, the Eucharist\, servic
 e and invitation.
GEO:-0.17215;51.240732
LOCATION:St. Matthew\, Redhill
URL:https://www.achurchnearyou.com/church/762/service-and-events/events/13
 03486/
END:VEVENT
BEGIN:VEVENT
SUMMARY:Draw Near to God
DTSTART;TZID=Europe/London:20260310T140000
DTEND;TZID=Europe/London:20260310T150000
DTSTAMP:20260421T082815Z
UID:13034862026-03-10 14:00:00+00:00achurchnearyou
CATEGORIES:
DESCRIPTION:"Draw near to God\, and He will draw near to you" James 4: 8\n
 A group meeting in church each Tuesday during Lent\, exploring the themes 
 of drawing near to God through prayer\, scripture\, the Eucharist\, servic
 e and invitation.
GEO:-0.17215;51.240732
LOCATION:St. Matthew\, Redhill
URL:https://www.achurchnearyou.com/church/762/service-and-events/events/13
 03486/
END:VEVENT
BEGIN:VEVENT
SUMMARY:Draw Near to God
DTSTART;TZID=Europe/London:20260317T140000
DTEND;TZID=Europe/London:20260317T150000
DTSTAMP:20260421T082815Z
UID:13034862026-03-17 14:00:00+00:00achurchnearyou
CATEGORIES:
DESCRIPTION:"Draw near to God\, and He will draw near to you" James 4: 8\n
 A group meeting in church each Tuesday during Lent\, exploring the themes 
 of drawing near to God through prayer\, scripture\, the Eucharist\, servic
 e and invitation.
GEO:-0.17215;51.240732
LOCATION:St. Matthew\, Redhill
URL:https://www.achurchnearyou.com/church/762/service-and-events/events/13
 03486/
END:VEVENT
BEGIN:VEVENT
SUMMARY:Draw Near to God
DTSTART;TZID=Europe/London:20260324T140000
DTEND;TZID=Europe/London:20260324T150000
DTSTAMP:20260421T082815Z
UID:13034862026-03-24 14:00:00+00:00achurchnearyou
CATEGORIES:
DESCRIPTION:"Draw near to God\, and He will draw near to you" James 4: 8\n
 A group meeting in church each Tuesday during Lent\, exploring the themes 
 of drawing near to God through prayer\, scripture\, the Eucharist\, servic
 e and invitation.
GEO:-0.17215;51.240732
LOCATION:St. Matthew\, Redhill
URL:https://www.achurchnearyou.com/church/762/service-and-events/events/13
 03486/
END:VEVENT
END:VCALENDAR
