BEGIN:VCALENDAR
VERSION:2.0
PRODID:-//achurchnearyou.com//eventfeed//EN
CALSCALE:GREGORIAN
METHOD:PUBLISH
X-WR-TIMEZONE:UTC
BEGIN:VEVENT
SUMMARY:Christmas Day Service
DTSTART:20251225T113000Z
DTEND:20251225T123000Z
DTSTAMP:20260419T235528Z
UID:12537242025-12-25 11:30:00+00:00achurchnearyou
CATEGORIES:
DESCRIPTION:Celebrate Christmas morning with us! Christmas jumpers welcome
 !
GEO:-0.410816;51.722998
LOCATION:Church of the Ascension
URL:https://www.achurchnearyou.com/church/7620/service-and-events/events/1
 253724/
END:VEVENT
END:VCALENDAR
