BEGIN:VCALENDAR
VERSION:2.0
PRODID:-//achurchnearyou.com//eventfeed//EN
CALSCALE:GREGORIAN
METHOD:PUBLISH
X-WR-TIMEZONE:UTC
BEGIN:VEVENT
SUMMARY:Easter Monday Pilgrimage
DTSTART:20260406T080000Z
DTEND:20260406T143000Z
DTSTAMP:20260423T090512Z
UID:3333202026-04-06 08:00:00+00:00achurchnearyou
CATEGORIES:
DESCRIPTION:Easter Monday Pilgrimage to St Albans Cathedral - 6th April. J
 oin hundreds of people from across the diocese and beyond journeying toget
 her to St Albans Cathedral for an Easter Celebration. The Procession\nin S
 t Albans begins at 2:30pm and the Service takes place at 3pm.\n\nWhy not m
 eet others at St Mary’s Church and make the Pilgrimage from here?\nWe in
 vite you to join us for refreshments from 9am until 11am. We will then sta
 rt the Pilgrimage together\, from Redbourn\, to the Cathedral. Please call
  the church office if you'd like to come for refreshments.
GEO:-0.406565;51.791989
LOCATION:St Mary's Church\, Redbourn
URL:https://www.achurchnearyou.com/church/7630/service-and-events/events/3
 33320/
END:VEVENT
END:VCALENDAR
