BEGIN:VCALENDAR
VERSION:2.0
PRODID:-//achurchnearyou.com//eventfeed//EN
CALSCALE:GREGORIAN
METHOD:PUBLISH
X-WR-TIMEZONE:UTC
BEGIN:VEVENT
SUMMARY:HOLY WEEK - Compline
DTSTART;TZID=Europe/London:20260330T200000
DTEND;TZID=Europe/London:20260330T204500
DTSTAMP:20260424T030723Z
UID:4956602026-03-30 20:00:00+01:00achurchnearyou
CATEGORIES:
DESCRIPTION:Compline - Evening Prayer Service
GEO:-0.429599;51.746674
LOCATION:Holy Trinity Church
URL:https://www.achurchnearyou.com/church/7642/service-and-events/events/4
 95660/
END:VEVENT
BEGIN:VEVENT
SUMMARY:HOLY WEEK - Compline
DTSTART;TZID=Europe/London:20260331T200000
DTEND;TZID=Europe/London:20260331T204500
DTSTAMP:20260424T030723Z
UID:4956602026-03-31 20:00:00+01:00achurchnearyou
CATEGORIES:
DESCRIPTION:Compline - Evening Prayer Service
GEO:-0.429599;51.746674
LOCATION:Holy Trinity Church
URL:https://www.achurchnearyou.com/church/7642/service-and-events/events/4
 95660/
END:VEVENT
END:VCALENDAR
