BEGIN:VCALENDAR
VERSION:2.0
PRODID:-//achurchnearyou.com//eventfeed//EN
CALSCALE:GREGORIAN
METHOD:PUBLISH
X-WR-TIMEZONE:UTC
BEGIN:VEVENT
SUMMARY:Short Said Holy Communion
DTSTART:20260125T090000Z
DTEND:20260125T100000Z
DTSTAMP:20260425T122821Z
UID:11945812026-01-25 09:00:00+00:00achurchnearyou
CATEGORIES:
DESCRIPTION:"Said" Holy Communion refers to a service of Holy Communion wh
 ere the words are read or "said" rather than sung\, often in a more quiet 
 and contemplative setting.
LOCATION:St Botolph's Aspley Guise
URL:https://www.achurchnearyou.com/church/7646/service-and-events/events/1
 194581/
END:VEVENT
END:VCALENDAR
