BEGIN:VCALENDAR
VERSION:2.0
PRODID:-//achurchnearyou.com//eventfeed//EN
CALSCALE:GREGORIAN
METHOD:PUBLISH
X-WR-TIMEZONE:UTC
BEGIN:VEVENT
SUMMARY:Ash Wednesday Service
DTSTART:20260218T200000Z
DTEND:20260218T210000Z
DTSTAMP:20260423T152353Z
UID:12932832026-02-18 20:00:00+00:00achurchnearyou
CATEGORIES:
DESCRIPTION:A service of Holy Communion marking the start of Lent
GEO:-0.451051;52.139876
LOCATION:Christ Church
URL:https://www.achurchnearyou.com/church/7669/service-and-events/events/1
 293283/
END:VEVENT
END:VCALENDAR
