BEGIN:VCALENDAR
VERSION:2.0
PRODID:-//achurchnearyou.com//eventfeed//EN
CALSCALE:GREGORIAN
METHOD:PUBLISH
X-WR-TIMEZONE:UTC
BEGIN:VEVENT
SUMMARY:Open Church Saturday
DTSTART:20260307T100000Z
DTEND:20260307T140000Z
DTSTAMP:20260420T082604Z
UID:13004322026-03-07 10:00:00+00:00achurchnearyou
CATEGORIES:
DESCRIPTION:Come in for a hot drink and explore our beautiful historic chu
 rch building.
GEO:-0.467149;52.139187
LOCATION:St Peter de Merton
URL:https://www.achurchnearyou.com/church/7674/service-and-events/events/1
 300432/
END:VEVENT
END:VCALENDAR
