BEGIN:VCALENDAR
VERSION:2.0
PRODID:-//achurchnearyou.com//eventfeed//EN
CALSCALE:GREGORIAN
METHOD:PUBLISH
X-WR-TIMEZONE:UTC
BEGIN:VEVENT
SUMMARY:Cantamus Concert
DTSTART:20260412T140000Z
DTEND:20260412T153000Z
DTSTAMP:20260420T062645Z
UID:13055542026-04-12 14:00:00+00:00achurchnearyou
CATEGORIES:
DESCRIPTION:A concert in aid of St Peter de Merton Church.\nConducted by G
 ary Mudd\nFeaturing Bach Motets:\nKomm Jesu\, Komm\nLobet dem Herrn\nand o
 ther works\n\nTickets £10 on the door
GEO:-0.467149;52.139187
LOCATION:St Peter de Merton
URL:https://www.achurchnearyou.com/church/7674/service-and-events/events/1
 305554/
END:VEVENT
END:VCALENDAR
