BEGIN:VCALENDAR
VERSION:2.0
PRODID:-//achurchnearyou.com//eventfeed//EN
CALSCALE:GREGORIAN
METHOD:PUBLISH
X-WR-TIMEZONE:UTC
BEGIN:VEVENT
SUMMARY:Taize Worship -
DTSTART;TZID=Europe/London:20231001T170000
DTEND;TZID=Europe/London:20231001T174500
DTSTAMP:20260423T103910Z
UID:6859542023-10-01 17:00:00+01:00achurchnearyou
CATEGORIES:
DESCRIPTION:A service of prayer and song in the style of Taize in France\n
 An opportunity to light a candle in prayer
GEO:-0.428595;52.146907
LOCATION:St Mary's Goldington
URL:http://www.stmarygoldington.com
END:VEVENT
BEGIN:VEVENT
SUMMARY:Taize Worship -
DTSTART;TZID=Europe/London:20231105T170000
DTEND;TZID=Europe/London:20231105T174500
DTSTAMP:20260423T103910Z
UID:6859542023-11-05 17:00:00+00:00achurchnearyou
CATEGORIES:
DESCRIPTION:A service of prayer and song in the style of Taize in France\n
 An opportunity to light a candle in prayer
GEO:-0.428595;52.146907
LOCATION:St Mary's Goldington
URL:http://www.stmarygoldington.com
END:VEVENT
BEGIN:VEVENT
SUMMARY:Taize Worship -
DTSTART;TZID=Europe/London:20231203T170000
DTEND;TZID=Europe/London:20231203T174500
DTSTAMP:20260423T103910Z
UID:6859542023-12-03 17:00:00+00:00achurchnearyou
CATEGORIES:
DESCRIPTION:A service of prayer and song in the style of Taize in France\n
 An opportunity to light a candle in prayer
GEO:-0.428595;52.146907
LOCATION:St Mary's Goldington
URL:http://www.stmarygoldington.com
END:VEVENT
BEGIN:VEVENT
SUMMARY:Taize Worship -
DTSTART;TZID=Europe/London:20240107T170000
DTEND;TZID=Europe/London:20240107T174500
DTSTAMP:20260423T103910Z
UID:6859542024-01-07 17:00:00+00:00achurchnearyou
CATEGORIES:
DESCRIPTION:A service of prayer and song in the style of Taize in France\n
 An opportunity to light a candle in prayer
GEO:-0.428595;52.146907
LOCATION:St Mary's Goldington
URL:http://www.stmarygoldington.com
END:VEVENT
BEGIN:VEVENT
SUMMARY:Taize Worship -
DTSTART;TZID=Europe/London:20240204T170000
DTEND;TZID=Europe/London:20240204T174500
DTSTAMP:20260423T103910Z
UID:6859542024-02-04 17:00:00+00:00achurchnearyou
CATEGORIES:
DESCRIPTION:A service of prayer and song in the style of Taize in France\n
 An opportunity to light a candle in prayer
GEO:-0.428595;52.146907
LOCATION:St Mary's Goldington
URL:http://www.stmarygoldington.com
END:VEVENT
BEGIN:VEVENT
SUMMARY:Taize Worship -
DTSTART;TZID=Europe/London:20240303T170000
DTEND;TZID=Europe/London:20240303T174500
DTSTAMP:20260423T103910Z
UID:6859542024-03-03 17:00:00+00:00achurchnearyou
CATEGORIES:
DESCRIPTION:A service of prayer and song in the style of Taize in France\n
 An opportunity to light a candle in prayer
GEO:-0.428595;52.146907
LOCATION:St Mary's Goldington
URL:http://www.stmarygoldington.com
END:VEVENT
BEGIN:VEVENT
SUMMARY:Taize Worship -
DTSTART;TZID=Europe/London:20240407T170000
DTEND;TZID=Europe/London:20240407T174500
DTSTAMP:20260423T103910Z
UID:6859542024-04-07 17:00:00+01:00achurchnearyou
CATEGORIES:
DESCRIPTION:A service of prayer and song in the style of Taize in France\n
 An opportunity to light a candle in prayer
GEO:-0.428595;52.146907
LOCATION:St Mary's Goldington
URL:http://www.stmarygoldington.com
END:VEVENT
BEGIN:VEVENT
SUMMARY:Taize Worship -
DTSTART;TZID=Europe/London:20241006T170000
DTEND;TZID=Europe/London:20241006T174500
DTSTAMP:20260423T103910Z
UID:6859542024-10-06 17:00:00+01:00achurchnearyou
CATEGORIES:
DESCRIPTION:A service of prayer and song in the style of Taize in France\n
 An opportunity to light a candle in prayer
GEO:-0.428595;52.146907
LOCATION:St Mary's Goldington
URL:http://www.stmarygoldington.com
END:VEVENT
BEGIN:VEVENT
SUMMARY:Taize Worship -
DTSTART;TZID=Europe/London:20241103T170000
DTEND;TZID=Europe/London:20241103T174500
DTSTAMP:20260423T103910Z
UID:6859542024-11-03 17:00:00+00:00achurchnearyou
CATEGORIES:
DESCRIPTION:A service of prayer and song in the style of Taize in France\n
 An opportunity to light a candle in prayer
GEO:-0.428595;52.146907
LOCATION:St Mary's Goldington
URL:http://www.stmarygoldington.com
END:VEVENT
BEGIN:VEVENT
SUMMARY:Taize Worship -
DTSTART;TZID=Europe/London:20241201T170000
DTEND;TZID=Europe/London:20241201T174500
DTSTAMP:20260423T103910Z
UID:6859542024-12-01 17:00:00+00:00achurchnearyou
CATEGORIES:
DESCRIPTION:A service of prayer and song in the style of Taize in France\n
 An opportunity to light a candle in prayer
GEO:-0.428595;52.146907
LOCATION:St Mary's Goldington
URL:http://www.stmarygoldington.com
END:VEVENT
BEGIN:VEVENT
SUMMARY:Taize Worship -
DTSTART;TZID=Europe/London:20250105T170000
DTEND;TZID=Europe/London:20250105T174500
DTSTAMP:20260423T103910Z
UID:6859542025-01-05 17:00:00+00:00achurchnearyou
CATEGORIES:
DESCRIPTION:A service of prayer and song in the style of Taize in France\n
 An opportunity to light a candle in prayer
GEO:-0.428595;52.146907
LOCATION:St Mary's Goldington
URL:http://www.stmarygoldington.com
END:VEVENT
BEGIN:VEVENT
SUMMARY:Taize Worship -
DTSTART;TZID=Europe/London:20250202T170000
DTEND;TZID=Europe/London:20250202T174500
DTSTAMP:20260423T103910Z
UID:6859542025-02-02 17:00:00+00:00achurchnearyou
CATEGORIES:
DESCRIPTION:A service of prayer and song in the style of Taize in France\n
 An opportunity to light a candle in prayer
GEO:-0.428595;52.146907
LOCATION:St Mary's Goldington
URL:http://www.stmarygoldington.com
END:VEVENT
BEGIN:VEVENT
SUMMARY:Taize Worship -
DTSTART;TZID=Europe/London:20250302T170000
DTEND;TZID=Europe/London:20250302T174500
DTSTAMP:20260423T103910Z
UID:6859542025-03-02 17:00:00+00:00achurchnearyou
CATEGORIES:
DESCRIPTION:A service of prayer and song in the style of Taize in France\n
 An opportunity to light a candle in prayer
GEO:-0.428595;52.146907
LOCATION:St Mary's Goldington
URL:http://www.stmarygoldington.com
END:VEVENT
BEGIN:VEVENT
SUMMARY:Taize Worship -
DTSTART;TZID=Europe/London:20250406T170000
DTEND;TZID=Europe/London:20250406T174500
DTSTAMP:20260423T103910Z
UID:6859542025-04-06 17:00:00+01:00achurchnearyou
CATEGORIES:
DESCRIPTION:A service of prayer and song in the style of Taize in France\n
 An opportunity to light a candle in prayer
GEO:-0.428595;52.146907
LOCATION:St Mary's Goldington
URL:http://www.stmarygoldington.com
END:VEVENT
BEGIN:VEVENT
SUMMARY:Taize Worship -
DTSTART;TZID=Europe/London:20251005T170000
DTEND;TZID=Europe/London:20251005T174500
DTSTAMP:20260423T103910Z
UID:6859542025-10-05 17:00:00+01:00achurchnearyou
CATEGORIES:
DESCRIPTION:A service of prayer and song in the style of Taize in France\n
 An opportunity to light a candle in prayer
GEO:-0.428595;52.146907
LOCATION:St Mary's Goldington
URL:http://www.stmarygoldington.com
END:VEVENT
BEGIN:VEVENT
SUMMARY:Taize Worship -
DTSTART;TZID=Europe/London:20251102T170000
DTEND;TZID=Europe/London:20251102T174500
DTSTAMP:20260423T103910Z
UID:6859542025-11-02 17:00:00+00:00achurchnearyou
CATEGORIES:
DESCRIPTION:A service of prayer and song in the style of Taize in France\n
 An opportunity to light a candle in prayer
GEO:-0.428595;52.146907
LOCATION:St Mary's Goldington
URL:http://www.stmarygoldington.com
END:VEVENT
BEGIN:VEVENT
SUMMARY:Taize Worship -
DTSTART;TZID=Europe/London:20251207T170000
DTEND;TZID=Europe/London:20251207T174500
DTSTAMP:20260423T103910Z
UID:6859542025-12-07 17:00:00+00:00achurchnearyou
CATEGORIES:
DESCRIPTION:A service of prayer and song in the style of Taize in France\n
 An opportunity to light a candle in prayer
GEO:-0.428595;52.146907
LOCATION:St Mary's Goldington
URL:http://www.stmarygoldington.com
END:VEVENT
BEGIN:VEVENT
SUMMARY:Taize Worship -
DTSTART;TZID=Europe/London:20260104T170000
DTEND;TZID=Europe/London:20260104T174500
DTSTAMP:20260423T103910Z
UID:6859542026-01-04 17:00:00+00:00achurchnearyou
CATEGORIES:
DESCRIPTION:A service of prayer and song in the style of Taize in France\n
 An opportunity to light a candle in prayer
GEO:-0.428595;52.146907
LOCATION:St Mary's Goldington
URL:http://www.stmarygoldington.com
END:VEVENT
BEGIN:VEVENT
SUMMARY:Taize Worship -
DTSTART;TZID=Europe/London:20260201T170000
DTEND;TZID=Europe/London:20260201T174500
DTSTAMP:20260423T103910Z
UID:6859542026-02-01 17:00:00+00:00achurchnearyou
CATEGORIES:
DESCRIPTION:A service of prayer and song in the style of Taize in France\n
 An opportunity to light a candle in prayer
GEO:-0.428595;52.146907
LOCATION:St Mary's Goldington
URL:http://www.stmarygoldington.com
END:VEVENT
BEGIN:VEVENT
SUMMARY:Taize Worship -
DTSTART;TZID=Europe/London:20260301T170000
DTEND;TZID=Europe/London:20260301T174500
DTSTAMP:20260423T103910Z
UID:6859542026-03-01 17:00:00+00:00achurchnearyou
CATEGORIES:
DESCRIPTION:A service of prayer and song in the style of Taize in France\n
 An opportunity to light a candle in prayer
GEO:-0.428595;52.146907
LOCATION:St Mary's Goldington
URL:http://www.stmarygoldington.com
END:VEVENT
BEGIN:VEVENT
SUMMARY:Taize Worship -
DTSTART;TZID=Europe/London:20260405T170000
DTEND;TZID=Europe/London:20260405T174500
DTSTAMP:20260423T103910Z
UID:6859542026-04-05 17:00:00+01:00achurchnearyou
CATEGORIES:
DESCRIPTION:A service of prayer and song in the style of Taize in France\n
 An opportunity to light a candle in prayer
GEO:-0.428595;52.146907
LOCATION:St Mary's Goldington
URL:http://www.stmarygoldington.com
END:VEVENT
BEGIN:VEVENT
SUMMARY:Taize Worship -
DTSTART;TZID=Europe/London:20261004T170000
DTEND;TZID=Europe/London:20261004T174500
DTSTAMP:20260423T103910Z
UID:6859542026-10-04 17:00:00+01:00achurchnearyou
CATEGORIES:
DESCRIPTION:A service of prayer and song in the style of Taize in France\n
 An opportunity to light a candle in prayer
GEO:-0.428595;52.146907
LOCATION:St Mary's Goldington
URL:http://www.stmarygoldington.com
END:VEVENT
BEGIN:VEVENT
SUMMARY:Taize Worship -
DTSTART;TZID=Europe/London:20261101T170000
DTEND;TZID=Europe/London:20261101T174500
DTSTAMP:20260423T103910Z
UID:6859542026-11-01 17:00:00+00:00achurchnearyou
CATEGORIES:
DESCRIPTION:A service of prayer and song in the style of Taize in France\n
 An opportunity to light a candle in prayer
GEO:-0.428595;52.146907
LOCATION:St Mary's Goldington
URL:http://www.stmarygoldington.com
END:VEVENT
BEGIN:VEVENT
SUMMARY:Taize Worship -
DTSTART;TZID=Europe/London:20261206T170000
DTEND;TZID=Europe/London:20261206T174500
DTSTAMP:20260423T103910Z
UID:6859542026-12-06 17:00:00+00:00achurchnearyou
CATEGORIES:
DESCRIPTION:A service of prayer and song in the style of Taize in France\n
 An opportunity to light a candle in prayer
GEO:-0.428595;52.146907
LOCATION:St Mary's Goldington
URL:http://www.stmarygoldington.com
END:VEVENT
BEGIN:VEVENT
SUMMARY:Taize Worship -
DTSTART;TZID=Europe/London:20270103T170000
DTEND;TZID=Europe/London:20270103T174500
DTSTAMP:20260423T103910Z
UID:6859542027-01-03 17:00:00+00:00achurchnearyou
CATEGORIES:
DESCRIPTION:A service of prayer and song in the style of Taize in France\n
 An opportunity to light a candle in prayer
GEO:-0.428595;52.146907
LOCATION:St Mary's Goldington
URL:http://www.stmarygoldington.com
END:VEVENT
BEGIN:VEVENT
SUMMARY:Taize Worship -
DTSTART;TZID=Europe/London:20270207T170000
DTEND;TZID=Europe/London:20270207T174500
DTSTAMP:20260423T103910Z
UID:6859542027-02-07 17:00:00+00:00achurchnearyou
CATEGORIES:
DESCRIPTION:A service of prayer and song in the style of Taize in France\n
 An opportunity to light a candle in prayer
GEO:-0.428595;52.146907
LOCATION:St Mary's Goldington
URL:http://www.stmarygoldington.com
END:VEVENT
BEGIN:VEVENT
SUMMARY:Taize Worship -
DTSTART;TZID=Europe/London:20270307T170000
DTEND;TZID=Europe/London:20270307T174500
DTSTAMP:20260423T103910Z
UID:6859542027-03-07 17:00:00+00:00achurchnearyou
CATEGORIES:
DESCRIPTION:A service of prayer and song in the style of Taize in France\n
 An opportunity to light a candle in prayer
GEO:-0.428595;52.146907
LOCATION:St Mary's Goldington
URL:http://www.stmarygoldington.com
END:VEVENT
BEGIN:VEVENT
SUMMARY:Taize Worship -
DTSTART;TZID=Europe/London:20270404T170000
DTEND;TZID=Europe/London:20270404T174500
DTSTAMP:20260423T103910Z
UID:6859542027-04-04 17:00:00+01:00achurchnearyou
CATEGORIES:
DESCRIPTION:A service of prayer and song in the style of Taize in France\n
 An opportunity to light a candle in prayer
GEO:-0.428595;52.146907
LOCATION:St Mary's Goldington
URL:http://www.stmarygoldington.com
END:VEVENT
END:VCALENDAR
