BEGIN:VCALENDAR
VERSION:2.0
PRODID:-//achurchnearyou.com//eventfeed//EN
CALSCALE:GREGORIAN
METHOD:PUBLISH
X-WR-TIMEZONE:UTC
BEGIN:VEVENT
SUMMARY:Pancakes and Punch
DTSTART:20260217T193000Z
DTEND:20260217T213000Z
DTSTAMP:20260424T232432Z
UID:12945192026-02-17 19:30:00+00:00achurchnearyou
CATEGORIES:
DESCRIPTION:Enjoy a bit of company have a glass of punch or juice and panc
 akes. Any donations go towards Mickeys cafe.
GEO:-0.491188;52.119716
LOCATION:Church of the Transfiguration
URL:https://www.achurchnearyou.com/church/7678/service-and-events/events/1
 294519/
END:VEVENT
END:VCALENDAR
