BEGIN:VCALENDAR
VERSION:2.0
PRODID:-//achurchnearyou.com//eventfeed//EN
CALSCALE:GREGORIAN
METHOD:PUBLISH
X-WR-TIMEZONE:UTC
BEGIN:VEVENT
SUMMARY:All Soul's Service
DTSTART:20251102T180000Z
DTEND:20251102T190000Z
DTSTAMP:20260424T095604Z
UID:12307912025-11-02 18:00:00+00:00achurchnearyou
CATEGORIES:
DESCRIPTION:A Remembrance of Loved Ones
GEO:-0.267512;52.086969
LOCATION:St Andrew's
URL:https://www.achurchnearyou.com/church/7682/service-and-events/events/1
 230791/
END:VEVENT
END:VCALENDAR
