BEGIN:VCALENDAR
VERSION:2.0
PRODID:-//achurchnearyou.com//eventfeed//EN
CALSCALE:GREGORIAN
METHOD:PUBLISH
X-WR-TIMEZONE:UTC
BEGIN:VEVENT
SUMMARY:Walk of Witness
DTSTART:20260403T090000Z
DTEND:20260403T103000Z
DTSTAMP:20260423T101004Z
UID:12920062026-04-03 09:00:00+00:00achurchnearyou
CATEGORIES:
DESCRIPTION:Churches Together Walk of Witness from Sullivan Court\, King's
  Reach departing at 10.05 am\, Stratton School 10.25 am\, 10.40 am Biggles
 wade Baptist Church to the Market Square for 11.00 am service.
LOCATION:Sullivan Court
URL:https://www.achurchnearyou.com/church/7682/service-and-events/events/1
 292006/
END:VEVENT
END:VCALENDAR
