BEGIN:VCALENDAR
VERSION:2.0
PRODID:-//achurchnearyou.com//eventfeed//EN
CALSCALE:GREGORIAN
METHOD:PUBLISH
X-WR-TIMEZONE:UTC
BEGIN:VEVENT
SUMMARY:Fifth Sunday Benefice Holy Communion
DTSTART:20241229T110000Z
DTEND:20241229T120000Z
DTSTAMP:20260424T192614Z
UID:11004072024-12-29 11:00:00+00:00achurchnearyou
CATEGORIES:
DESCRIPTION:Join us as we gather together as the Benefice of Cople\, Mogge
 rhanger and Willington to share worship!
LOCATION:St John the Evangelist Church
URL:https://www.achurchnearyou.com/church/7685/service-and-events/events/1
 100407/
END:VEVENT
END:VCALENDAR
