BEGIN:VCALENDAR
VERSION:2.0
PRODID:-//achurchnearyou.com//eventfeed//EN
CALSCALE:GREGORIAN
METHOD:PUBLISH
X-WR-TIMEZONE:UTC
BEGIN:VEVENT
SUMMARY:Patronal Holy Communion
DTSTART:20251228T110000Z
DTEND:20251228T120000Z
DTSTAMP:20260424T003302Z
UID:12444732025-12-28 11:00:00+00:00achurchnearyou
CATEGORIES:
DESCRIPTION:All welcome to join us as we mark the feast of St John the Eva
 ngelist.
LOCATION:St John's
URL:https://www.achurchnearyou.com/church/7685/service-and-events/events/1
 244473/
END:VEVENT
END:VCALENDAR
