BEGIN:VCALENDAR
VERSION:2.0
PRODID:-//achurchnearyou.com//eventfeed//EN
CALSCALE:GREGORIAN
METHOD:PUBLISH
X-WR-TIMEZONE:UTC
BEGIN:VEVENT
SUMMARY:Family Carol Service
DTSTART:20251221T150000Z
DTEND:20251221T160000Z
DTSTAMP:20260424T021031Z
UID:9955232025-12-21 15:00:00+00:00achurchnearyou
CATEGORIES:
DESCRIPTION:All welcome to join us for our Christmas Carol Service.  Lots 
 of carols and refreshments at the end!
GEO:-0.390287;52.122878
LOCATION:All Saints
URL:https://www.achurchnearyou.com/church/7685/service-and-events/events/9
 95523/
END:VEVENT
END:VCALENDAR
