BEGIN:VCALENDAR
VERSION:2.0
PRODID:-//achurchnearyou.com//eventfeed//EN
CALSCALE:GREGORIAN
METHOD:PUBLISH
X-WR-TIMEZONE:UTC
BEGIN:VEVENT
SUMMARY:Palm Sunday Holy Communion
DTSTART:20260329T100000Z
DTEND:20260329T110000Z
DTSTAMP:20260423T182243Z
UID:9956072026-03-29 10:00:00+00:00achurchnearyou
CATEGORIES:
DESCRIPTION:A service of Holy Communion on Palm Sunday
GEO:-0.390287;52.122878
LOCATION:All Saints
URL:https://www.achurchnearyou.com/church/7685/service-and-events/events/9
 95607/
END:VEVENT
END:VCALENDAR
