BEGIN:VCALENDAR
VERSION:2.0
PRODID:-//achurchnearyou.com//eventfeed//EN
CALSCALE:GREGORIAN
METHOD:PUBLISH
X-WR-TIMEZONE:UTC
BEGIN:VEVENT
SUMMARY:Good Friday Reflections
DTSTART:20260403T110000Z
DTEND:20260403T130000Z
DTSTAMP:20260421T072605Z
UID:13213672026-04-03 11:00:00+00:00achurchnearyou
CATEGORIES:
DESCRIPTION:Good Friday Reflections
LOCATION:Richmond\, St Mary Magdalene
URL:https://www.achurchnearyou.com/church/772/service-and-events/events/13
 21367/
END:VEVENT
END:VCALENDAR
