BEGIN:VCALENDAR
VERSION:2.0
PRODID:-//achurchnearyou.com//eventfeed//EN
CALSCALE:GREGORIAN
METHOD:PUBLISH
X-WR-TIMEZONE:UTC
BEGIN:VEVENT
SUMMARY:Feast of the Epiphany
DTSTART:20260104T110000Z
DTEND:20260104T120000Z
DTSTAMP:20260423T174445Z
UID:12661562026-01-04 11:00:00+00:00achurchnearyou
CATEGORIES:
DESCRIPTION:Feast of the Epiphany
GEO:-0.300292;51.464155
LOCATION:St John the Divine\, Richmond
URL:https://www.achurchnearyou.com/church/773/service-and-events/events/12
 66156/
END:VEVENT
END:VCALENDAR
