BEGIN:VCALENDAR
VERSION:2.0
PRODID:-//achurchnearyou.com//eventfeed//EN
CALSCALE:GREGORIAN
METHOD:PUBLISH
X-WR-TIMEZONE:UTC
BEGIN:VEVENT
SUMMARY:Harvest Festival All Age Service
DTSTART:20251005T083000Z
DTEND:20251005T093000Z
DTSTAMP:20260419T215332Z
UID:12296212025-10-05 08:30:00+00:00achurchnearyou
CATEGORIES:
DESCRIPTION:Family Service with donations to NOAH https://noahenterprise.o
 rg/
GEO:-0.456187;51.866911
LOCATION:All Saints Caddington Village
URL:https://www.achurchnearyou.com/church/7733/service-and-events/events/1
 229621/
END:VEVENT
END:VCALENDAR
