BEGIN:VCALENDAR
VERSION:2.0
PRODID:-//achurchnearyou.com//eventfeed//EN
CALSCALE:GREGORIAN
METHOD:PUBLISH
X-WR-TIMEZONE:UTC
BEGIN:VEVENT
SUMMARY:Blue Christmas
DTSTART:20251221T160000Z
DTEND:20251221T170000Z
DTSTAMP:20260421T225108Z
UID:12510492025-12-21 16:00:00+00:00achurchnearyou
CATEGORIES:
DESCRIPTION:A Christmas Carol Service for those for whom Christmas is diff
 icult
GEO:-0.398875;51.882915
LOCATION:St Anne
URL:https://www.facebook.com/Parish-of-Luton-St-Anne-with-St-Christopher-2
 110304885872967
END:VEVENT
END:VCALENDAR
