BEGIN:VCALENDAR
VERSION:2.0
PRODID:-//achurchnearyou.com//eventfeed//EN
CALSCALE:GREGORIAN
METHOD:PUBLISH
X-WR-TIMEZONE:UTC
BEGIN:VEVENT
SUMMARY:All Connected
DTSTART;TZID=Europe/London:20240915T103000
DTEND;TZID=Europe/London:20240915T113000
DTSTAMP:20260422T065739Z
UID:10918602024-09-15 10:30:00+01:00achurchnearyou
CATEGORIES:
DESCRIPTION:A service for all
LOCATION:St Anne
URL:https://www.facebook.com/Parish-of-Luton-St-Anne-with-St-Christopher-2
 110304885872967
END:VEVENT
BEGIN:VEVENT
SUMMARY:All Connected
DTSTART;TZID=Europe/London:20241117T103000
DTEND;TZID=Europe/London:20241117T113000
DTSTAMP:20260422T065739Z
UID:10918602024-11-17 10:30:00+00:00achurchnearyou
CATEGORIES:
DESCRIPTION:A service for all
LOCATION:St Anne
URL:https://www.facebook.com/Parish-of-Luton-St-Anne-with-St-Christopher-2
 110304885872967
END:VEVENT
BEGIN:VEVENT
SUMMARY:All Connected
DTSTART;TZID=Europe/London:20241215T103000
DTEND;TZID=Europe/London:20241215T113000
DTSTAMP:20260422T065739Z
UID:10918602024-12-15 10:30:00+00:00achurchnearyou
CATEGORIES:
DESCRIPTION:A service for all
LOCATION:St Anne
URL:https://www.facebook.com/Parish-of-Luton-St-Anne-with-St-Christopher-2
 110304885872967
END:VEVENT
BEGIN:VEVENT
SUMMARY:All Connected
DTSTART;TZID=Europe/London:20250119T103000
DTEND;TZID=Europe/London:20250119T113000
DTSTAMP:20260422T065739Z
UID:10918602025-01-19 10:30:00+00:00achurchnearyou
CATEGORIES:
DESCRIPTION:A service for all
LOCATION:St Anne
URL:https://www.facebook.com/Parish-of-Luton-St-Anne-with-St-Christopher-2
 110304885872967
END:VEVENT
BEGIN:VEVENT
SUMMARY:All Connected
DTSTART;TZID=Europe/London:20250216T103000
DTEND;TZID=Europe/London:20250216T113000
DTSTAMP:20260422T065739Z
UID:10918602025-02-16 10:30:00+00:00achurchnearyou
CATEGORIES:
DESCRIPTION:A service for all
LOCATION:St Anne
URL:https://www.facebook.com/Parish-of-Luton-St-Anne-with-St-Christopher-2
 110304885872967
END:VEVENT
BEGIN:VEVENT
SUMMARY:All Connected
DTSTART;TZID=Europe/London:20250316T103000
DTEND;TZID=Europe/London:20250316T113000
DTSTAMP:20260422T065739Z
UID:10918602025-03-16 10:30:00+00:00achurchnearyou
CATEGORIES:
DESCRIPTION:A service for all
LOCATION:St Anne
URL:https://www.facebook.com/Parish-of-Luton-St-Anne-with-St-Christopher-2
 110304885872967
END:VEVENT
BEGIN:VEVENT
SUMMARY:All Connected
DTSTART;TZID=Europe/London:20250518T103000
DTEND;TZID=Europe/London:20250518T113000
DTSTAMP:20260422T065739Z
UID:10918602025-05-18 10:30:00+01:00achurchnearyou
CATEGORIES:
DESCRIPTION:A service for all
LOCATION:St Anne
URL:https://www.facebook.com/Parish-of-Luton-St-Anne-with-St-Christopher-2
 110304885872967
END:VEVENT
BEGIN:VEVENT
SUMMARY:All Connected
DTSTART;TZID=Europe/London:20250615T103000
DTEND;TZID=Europe/London:20250615T113000
DTSTAMP:20260422T065739Z
UID:10918602025-06-15 10:30:00+01:00achurchnearyou
CATEGORIES:
DESCRIPTION:A service for all
LOCATION:St Anne
URL:https://www.facebook.com/Parish-of-Luton-St-Anne-with-St-Christopher-2
 110304885872967
END:VEVENT
END:VCALENDAR
